{"text_format":"2","workbook":"xlsx","n_sheets":3,"sheets":["CAPEX","OPEX","Composição de Preços "],"not_rendered":{"charts":0,"images":0,"macros":0,"external_links":0,"defined_names":0,"comments":0,"pivot_tables":0},"unopened":[],"bounds":{"document_bytes":16777216,"sheet_cells":100000,"run_cost":"one","rows_first":2000,"rows_last":500,"rows_between":2000,"halvings":0,"cell_chars":16384,"cell_head_chars":4096},"cells_cut":0,"cells_raw":0,"read":"whole","date_system":"1900"}

{"sheet":"CAPEX","index":0,"n_rows":6,"n_cols":23,"rows_kept":6,"cut":false,"hidden":false,"merged":[[0,0,0,22]]}
["CRONOGRAMA FINANCEIRO (VALORES EM R$)"]
["ITEM","DESCRIÇÃO","TOTAL",1,2,3,4,5,6,7,8,9,10,11,12,13,14,15,16,17,18,19,20]
["A","CAPEX"]
[1,"Implantação de Sistema de Gestão e Certificação ",{"$f":"SUM(C5)","v":125000},0,0,0,0,0,0,0,0,0,0,0,0,0,0,0,0,0,0,0,0]
["1.1","Implantação de Sistema de Gestão e Certificação ",{"$f":"SUM(D5:O5)","v":125000},125000,0,0,0,0,0,0,0,0,0,0,0,0,0,0,0,0,0,0,0]
[2,"Total ",{"$f":"C4","v":125000},{"$f":"SUM(D4:D5)","v":125000},0,0,0,0,0,0,0,0,0,0,0,0,0,0,0,0,0,0,0]

{"sheet":"OPEX","index":1,"n_rows":17,"n_cols":23,"rows_kept":17,"cut":false,"hidden":false,"merged":[[0,0,0,22]]}
["CRONOGRAMA FINANCEIRO (VALORES EM R$)"]
["ITEM","DESCRIÇÃO","TOTAL",1,2,3,4,5,6,7,8,9,10,11,12,13,14,15,16,17,18,19,20]
[1,"Trabalhos Iniciais ",152016.54999999999]
["1.1","Destinação de resíduos",{"$f":"SUM(D4:W4)","v":147156.15},{"$f":"D15*'Composição de Preços '!$C$6","v":69351.324999999997},{"$f":"E15*'Composição de Preços '!$C$6","v":69351.324999999997},{"$f":"F15*'Composição de Preços '!$C$6","v":0},{"$f":"G15*'Composição de Preços '!$C$6","v":0},{"$f":"H15*'Composição de Preços '!$C$6","v":0},{"$f":"I15*'Composição de Preços '!$C$6","v":0},{"$f":"J15*'Composição de Preços '!$C$6","v":0},{"$f":"K15*'Composição de Preços '!$C$6","v":8453.5}]
[2,"Trabalhos de Atualização da Rede ",{"$f":"SUM(C6:C6)","v":166285.62299999996}]
["2.1","Destinação de resíduos",{"$f":"SUM(D6:W6)","v":166285.62299999996},{"$nulls":11},{"$f":"O15*'Composição de Preços '!$C$6","v":1500.576},{"$f":"P15*'Composição de Preços '!$C$6","v":75382.976999999999},{"$f":"Q15*'Composição de Preços '!$C$6","v":75455.099999999991},{"$f":"R15*'Composição de Preços '!$C$6","v":887.4},{"$f":"S15*'Composição de Preços '!$C$6","v":887.4},{"$f":"T15*'Composição de Preços '!$C$6","v":887.4},{"$f":"U15*'Composição de Preços '!$C$6","v":971.93499999999995},{"$f":"V15*'Composição de Preços '!$C$6","v":971.93499999999995},{"$f":"W15*'Composição de Preços '!$C$6","v":9340.9}]
[3,"Manutenção de Sistema de Gestão e Certificação ",{"$f":"C8","v":450000}]
["3.1","Manutenção/Auditorias de Sistema de Gestão e Certificação ",{"$f":"SUM(D8:W8)","v":450000},null,null,{"$f":"'Composição de Preços '!C24","v":50000},null,{"$f":"'Composição de Preços '!C24","v":50000},null,{"$f":"'Composição de Preços '!C24","v":50000},null,{"$f":"'Composição de Preços '!C24","v":50000},null,{"$f":"'Composição de Preços '!C24","v":50000},null,{"$f":"'Composição de Preços '!C24","v":50000},null,{"$f":"'Composição de Preços '!C24","v":50000},null,{"$f":"'Composição de Preços '!C24","v":50000},null,{"$f":"'Composição de Preços '!C24","v":50000}]
[4,"Resíduos Comuns ",600000]
["4.1","Destinação de resíduos comuns - Classe II (CCO, Áreas de Apoio e etc.)",{"$f":"SUM(D10:W10)","v":600000},30000,30000,30000,30000,30000,30000,30000,30000,30000,30000,30000,30000,30000,30000,30000,30000,30000,30000,30000,30000]
[4,"Total ",{"$f":"C3+C5+C7+C9","v":1368302.173},{"$f":"SUM(D3:D10)","v":99351.324999999997},99351.324999999997,80000,30000,80000,30000,80000,38453.5,80000,30000,80000,31500.576000000001,155382.97700000001,105455.09999999999,80887.399999999994,30887.4,80887.399999999994,30971.935000000001,80971.934999999998,39340.9]
[]
[]
[null,"DESCRIÇÃO","TOTAL",1,2,3,4,5,6,7,8,9,10,11,12,13,14,15,16,17,18,19,20]
[null,"Total de Pontos Substituídos",{"$f":"SUM(D15:W15)","v":216681.36},{"$f":"SUM(D16:D17)","v":47828.5},{"$f":"SUM(E16:E17)","v":47828.5},0,0,0,0,0,5830,0,0,514.62,1034.8800000000001,51988.26,52038,612,612,612,670.3,670.3,6442]
[null,"Pontos Substituídos",{"$f":"SUM(D16:W16)","v":214405},47828.5,47828.5,0,0,0,0,0,5830,0,0,0,0,51462,52026,600,600,600,600,600,6430]
[null,"Pontos Substituídos por falha fora de garantia",{"$f":"SUM(D17:W17)","v":2276.3600000000006},0,0,0,0,0,0,0,0,0,0,514.62,1034.8800000000001,526.26,12,12,12,12,70.3,70.3,12]

{"sheet":"Composição de Preços ","index":2,"n_rows":32,"n_cols":10,"rows_kept":32,"cut":false,"hidden":false,"merged":[[0,0,1,2],[2,8,2,9],[13,0,14,2],[24,8,24,9],[25,8,26,8],[25,9,26,9],[29,0,30,0],[2,0,2,2],[3,0,3,2],[21,8,21,9],[22,8,23,8],[22,9,23,9]]}
["PPP - Iluminação Pública da Área Urbana de Porto Alegre - RS"]
[]
["Serviços de destinação de resíduos perigosos - Classe I ",{"$nulls":7},"Composição de Valores para Destinação Final de Lâmpadas "]
["Trabalhos Iniciais ",{"$nulls":7},"Empresa 1 - Recilux Reciclagem de Lâmpadas","Empresa 2 - AGR Ambiental Gestão de Resíduos"]
["Destinação Final de Lâmpadas ","Quantidades ","Valor Unitário ",{"$nulls":5},1,1.9]
["(Vapor de Sódio; Vapor Metálico; Vapor de Mercúrio;LED;Fluorescente;Mista",{"$f":"OPEX!C15","v":216681.36},{"$f":"J6","v":1.45},{"$nulls":5},"Valor Médio para descarte unitário ",{"$f":"(J5+I5)/2","v":1.45}]
["Total ",{"$f":"SUM(B6:B6)","v":216681.36},{"$f":"C6*B7","v":314187.97199999995}]
["Valor médio entre 2 orçamentos apresentados por empresas que realizam este tipo de operação. "]
[]
[]
["Taxa Para Transporte de Produtos Perigosos ","Quantidades ","Valor Unitário*"]
[" Transporte de resíduos por empresa devidamente licenciada ",12,0]
["Total ",null,{"$f":"C12*B12","v":0}]
["* Valor estimado após consulta no mercado, onde existe grande disponibilidade de empresas na região, podendo haver isenção do valor de frete. Ressalta-se que pode sofrer alterações de devido ao local de escolha para destinação final."]
[]
[]
["Autorização para Movimentação de Resíduos Perigosos ","Quantidades ","Valor Unitário "]
["Obtenção de certificado de Movimentação de Resíduos Perigosos junto ao órgão ambiental ","-",2000]
["Total ",null,0]
[]
[]
["Sistema de Gestão e Certificação ","Quantidades ","Valor Unitário ",{"$nulls":5},"Implantação de Gestão e Certificação "]
["Implantação de Sistema de Gestão e Certificação ",1,125000,{"$nulls":5},"Valor de Mercado - Consultoria Ambiental / Certificadora ",75000]
["Auditorias e Certificações a cada 2 anos ",9,50000]
["Total ",null,{"$f":"(C23*B23)+(C24*B24)","v":575000},{"$nulls":5},"Auditoria e Manutenção da  Certificação "]
[{"$nulls":8},"Valor de Mercado - Consultória Ambiental / Certificadora ",25000]
[]
[]
["Destinação de Resíduos Comum","Quantidade ","Valor Unitário "]
["Considerado valor de acordo as atividades e  números de funcionários ","mês ",2500]
[null,"por ano",{"$f":"C30*12","v":30000}]
["* Valor de mercado para coleta, transporte e  destinação final. Cotação com Multilixo e Corpus Saneamento e Obras.","TOTAL",{"$f":"C31*20","v":600000}]