{"text_format":"2","workbook":"xlsx","n_sheets":1,"sheets":["unificação "],"not_rendered":{"charts":0,"images":1,"macros":0,"external_links":1,"defined_names":2,"comments":0,"pivot_tables":0},"unopened":[],"bounds":{"document_bytes":16777216,"sheet_cells":100000,"run_cost":"one","rows_first":2000,"rows_last":500,"rows_between":2000,"halvings":0,"cell_chars":16384,"cell_head_chars":4096},"cells_cut":0,"cells_raw":0,"read":"whole","date_system":"1900"}

{"sheet":"unificação ","index":0,"n_rows":640,"n_cols":6,"rows_kept":640,"cut":false,"hidden":false,"merged":[[4,0,4,5],[10,0,10,2],[10,3,10,4],[8,3,8,4],[9,3,9,4],[11,3,11,4],[635,1,636,1],[43,0,43,3],[328,1,328,2],[12,3,12,4],[5,0,5,5],[13,3,13,4],[14,3,14,4],[36,0,36,3],[17,3,17,4],[15,3,15,4],[22,0,22,2],[512,1,512,2],[488,1,488,2],[449,1,449,2],[16,3,16,4],[387,1,387,2]]}
["             DEPARTAMENTO MUNICIPAL DE LIMPEZA URBANA"]
["              DIVISÃO DE LIMPEZA E COLETA"]
["              ASSESSORIA TÉCNICA"]
[]
["Coleta Automatizada de Resíduos Sólidos Urbanos "]
["Planilha de Composição de Custos - abril 21"]
[]
["Síntese dos custos mensal"]
["Item",null,null,"Custo (R$/mês)",null,"%"]
[{"$f":"+A50","v":"1. Mão-de-obra"},null,null,{"$f":"+F224","v":252745.09032441085},null,{"$f":"+D10/F$570","v":0.1055779433097845}]
[{"$f":"+A227","v":"2. Uniformes e Equipamentos de Proteção Individual"},null,null,{"$f":"+F268","v":4117.8177511111116},null,{"$f":"+D11/F$570","v":1.7201154274799528E-3}]
[{"$f":"+A270","v":"3. Veículos e Equipamentos"},null,null,{"$f":"+F463","v":801572.72335263609},null,{"$f":"+D12/F$570","v":0.33483696730238932}]
[{"$f":"+A465","v":"4. Contêineres"},null,null,{"$f":"+F516","v":754358.47916666663},null,{"$f":"+D13/F$570","v":0.31511439706499167}]
[{"$f":"+A518","v":"5. Ferramentas e Materiais de Consumo"},null,null,{"$f":"+F535","v":19638.313499999997},null,{"$f":"+D14/F$570","v":8.2034145420648869E-3}]
[{"$f":"+A537","v":"6. Monitoramento da Frota"},null,null,{"$f":"+F547","v":10441.666666666668},null,{"$f":"+D15/F$570","v":4.3617452270902773E-3}]
[{"$f":"+A549","v":"7. Despesas Iniciais com Implantação"},null,null,{"$f":"+F558","v":4000.9549999999999},null,{"$f":"+D16/F$570","v":1.6712989345621368E-3}]
[{"$f":"+A562","v":"8. Benefícios e Despesas Indiretas - BDI"},null,null,{"$f":"+F568","v":547044.38855455385},null,{"$f":"+D17/F$570","v":0.22851411819163708}]
["Custo total mensal com coleta automatizada",null,null,{"$f":"SUM(D10:E17)","v":2393919.4343160456},null,{"$f":"SUM(F10:F17)","v":0.99999999999999978}]
[]
[]
[]
["Síntese de quantitativos"]
["Mão-de-obra",null,null,"Quantidade"]
[{"$f":"+A52","v":"1.1. Operário Turno do Dia"},null,null,{"$f":"+C63","v":7}]
[{"$f":"+A66","v":"1.2. Operário Turno da Noite"},null,null,{"$f":"+C79","v":2}]
[{"$f":"+A82","v":"1.3. Motorista Turno do Dia"},null,null,{"$f":"+C93","v":16}]
[{"$f":"+A96","v":"1.4. Motorista Turno da Noite"},null,null,{"$f":"+C109","v":13}]
[{"$f":"+A112","v":"1.5. Motorista automóvel Turno do Dia"},null,null,{"$f":"+C120","v":1}]
[{"$f":"+A123","v":"1.6. Motorista automóvel Turno da Noite"},null,null,{"$f":"+C133","v":1}]
[{"$f":"+A136","v":"1.7. Fiscal Turno do Dia/vespertino"},null,null,{"$f":"+C147","v":2}]
[{"$f":"+A150","v":"1.8. Fiscal Turno da Noite"},null,null,{"$f":"+C163","v":1}]
[{"$f":"+A166","v":"1.9. Auxiliar Operacional Turno do Dia/vespertino"},null,null,{"$f":"+C176","v":2}]
[{"$f":"+A179","v":"1.10. Auxiliar Operacional Turno da Noite"},null,null,{"$f":"+C191","v":1}]
[{"$f":"+A194","v":"1.11. Gerente Operacional"},null,null,{"$f":"+C198","v":1}]
["Total de mão-de-obra (postos de trabalho)",null,null,{"$f":"SUM(D24:D34)","v":47}]
[]
["Veículos e Equipamentos",null,null,null,"Quantidade"]
[{"$f":"+A272","v":"3.1. Veículo Coletor Compactador (Truck)"},null,null,null,{"$f":"+C276","v":9}]
[{"$f":"+A331","v":"3.2. Veículo Equipado com Lavadora de Contêiner"},null,null,null,{"$f":"+C335","v":4}]
[{"$f":"+A390","v":"3.3. Veículo Toco com Carroceria de Madeira"},null,null,null,{"$f":"+C394","v":2}]
[{"$f":"+A453","v":"3.4. Veículos e Equipamentos"},{"$f":"+A456","v":"Picape, cabine dupla"},null,null,{"$f":"+C456","v":2}]
[{"$f":"+A41","v":"3.4. Veículos e Equipamentos"},{"$f":"+A457","v":"Automóvel (locação)"},null,null,{"$f":"+C457","v":2}]
[]
["Contêineres",null,null,null,"Quantidade"]
[{"$f":"+A467","v":"4.1. Contêiner de Aço Galvanizado de 2,4m³, para sistema de carga lateral"},null,null,null,{"$f":"+C471","v":1170}]
[{"$f":"+A491","v":"4.2. Contêiner de Aço Galvanizado de 3,2m³, para sistema de carga lateral"},null,null,null,{"$f":"+C495","v":1580}]
[]
[]
[]
["1. Mão-de-obra"]
[]
["1.1. Operário Turno do Dia"]
["Discriminação","Unidade","Quantidade","Preço unitário","Subtotal","Total (R$)"]
["Salário Normal","mês",1,{"$f":"[1]insumos!C2","v":1184.93},{"$f":"C54*D54","v":1184.93}]
["Horas Extras (100%)","hora",8,{"$f":"(D54+E59)/220*2","v":15.080927272727273},{"$f":"C55*D55","v":120.64741818181818}]
["Horas Extras (50%)","hora",16,{"$f":"(D54+E59)/220*1.5","v":11.310695454545455},{"$f":"C56*D56","v":180.97112727272727}]
["Desc. Semanal Remunerado HE 100%","hora",{"$f":"+C55*63/302","v":1.6688741721854305},{"$f":"+D55","v":15.080927272727273},{"$f":"C57*D57","v":25.16817001806141}]
["Desc. Semanal Remunerado HE 50%","hora",{"$f":"+C56*63/302","v":3.3377483443708611},{"$f":"+D56","v":11.310695454545455},{"$f":"C58*D58","v":37.752255027092119}]
["Adicional de Insalubridade","%",40,{"$f":"D54","v":1184.93},{"$f":"C59*D59/100","v":473.97200000000004}]
["Soma",null,null,null,{"$f":"SUM(E54:E59)","v":2023.440970499699}]
["Encargos Sociais","%",{"$f":"+B626*100","v":75.84},{"$f":"E60","v":2023.440970499699},{"$f":"D61*C61/100","v":1534.5776320269717}]
["Total por Operário",null,null,null,{"$f":"E60+E61","v":3558.0186025266707}]
["Total do Efetivo","homem",7,{"$f":"E62","v":3558.0186025266707},{"$f":"C63*D63","v":24906.130217686696}]
[{"$nulls":5},{"$f":"E63","v":24906.130217686696}]
[]
["1.2. Operário Turno da Noite"]
["Discriminação","Unidade","Quantidade","Preço unitário","Subtotal","Total (R$)"]
["Salário Normal","mês",1,{"$f":"D54","v":1184.93},{"$f":"C68*D68","v":1184.93}]
["Horas Extras (100%)","hora",8,{"$f":"(D68+E75)/220*2","v":15.080927272727273},{"$f":"C69*D69","v":120.64741818181818}]
["Horas Extras (50%) noturna","hora",8,{"$f":"(D68+E75)/220*1.5*1.2","v":13.572834545454546},{"$f":"C70*D70","v":108.58267636363637}]
["Adicional Noturno","hora",99,{"$f":"(D68+E75)/220*0.2","v":1.5080927272727274},{"$f":"C71*D71","v":149.30118000000002}]
["Desc. Semanal Remunerado HE 100%","hora",{"$f":"+C70*63/302","v":1.6688741721854305},{"$f":"+D69","v":15.080927272727273},{"$f":"C72*D72","v":25.16817001806141}]
["Desc. Semanal Remunerado HEn 50%","hora",{"$f":"+C70*63/302","v":1.6688741721854305},{"$f":"+D70","v":13.572834545454546},{"$f":"C73*D73","v":22.651353016255271}]
["Desc. Semanal Remunerado Ad. Notur.","hora",{"$f":"+C71*63/302","v":20.652317880794701},{"$f":"+D71","v":1.5080927272727274},{"$f":"C74*D74","v":31.145610397350993}]
["Adicional de Insalubridade","%",{"$f":"+C59","v":40},{"$f":"D68","v":1184.93},{"$f":"C75*D75/100","v":473.97200000000004}]
["Soma",null,null,null,{"$f":"SUM(E68:E75)","v":2116.3984079771226}]
["Encargos Sociais","%",{"$f":"+C61","v":75.84},{"$f":"E76","v":2116.3984079771226},{"$f":"D77*C77/100","v":1605.0765526098498}]
["Total por Operário",null,null,null,{"$f":"E76+E77","v":3721.4749605869724}]
["Total do Efetivo","homem",2,{"$f":"E78","v":3721.4749605869724},{"$f":"C79*D79","v":7442.9499211739449}]
[{"$nulls":5},{"$f":"E79","v":7442.9499211739449}]
[]
["1.3. Motorista Turno do Dia"]
["Discriminação","Unidade","Quantidade","Preço unitário","Subtotal","Total (R$)"]
["Salário Normal","mês",1,{"$f":"[1]insumos!C3","v":1804.93},{"$f":"C84*D84","v":1804.93}]
["Horas Extras (100%)","hora",{"$f":"+C55","v":8},{"$f":"(D84+E89)/220*2","v":20.40845454545455},{"$f":"C85*D85","v":163.2676363636364}]
["Horas Extras (50%)","hora",{"$f":"+C56","v":16},{"$f":"(D84+E89)/220*1.5","v":15.306340909090913},{"$f":"C86*D86","v":244.90145454545461}]
["Desc. Semanal Remunerado HE 100%","hora",{"$f":"+C85*63/302","v":1.6688741721854305},{"$f":"+D85","v":20.40845454545455},{"$f":"C87*D87","v":34.059142685129451}]
["Desc. Semanal Remunerado HE 50%","hora",{"$f":"+C86*63/302","v":3.3377483443708611},{"$f":"+D86","v":15.306340909090913},{"$f":"C88*D88","v":51.088714027694174}]
["Adicional de Insalubridade","%",40,1100,{"$f":"C89*D89/100","v":440}]
["Soma",null,null,null,{"$f":"SUM(E84:E89)","v":2738.2469476219144}]
["Encargos Sociais","%",{"$f":"+C61","v":75.84},{"$f":"E90","v":2738.2469476219144},{"$f":"D91*C91/100","v":2076.68648507646}]
["Total por Motorista",null,null,null,{"$f":"E90+E91","v":4814.9334326983744}]
["Total do Efetivo","homem",16,{"$f":"E92","v":4814.9334326983744},{"$f":"C93*D93","v":77038.934923173991}]
[{"$nulls":5},{"$f":"E93","v":77038.934923173991}]
[]
["1.4. Motorista Turno da Noite"]
["Discriminação","Unidade","Quantidade","Preço unitário","Subtotal","Total (R$)"]
["Salário Normal","mês",1,{"$f":"D84","v":1804.93},{"$f":"C98*D98","v":1804.93}]
["Horas Extras (100%)","hora",{"$f":"+C69","v":8},{"$f":"(D98+E105)/220*2","v":20.40845454545455},{"$f":"C99*D99","v":163.2676363636364}]
["Horas Extras (50%) noturna","hora",{"$f":"+C70","v":8},{"$f":"(D98+E105)/220*1.5*1.2","v":18.367609090909095},{"$f":"C100*D100","v":146.94087272727276}]
["Adicional Noturno","hora",{"$f":"C71","v":99},{"$f":"(D98+E105)/220*0.2","v":2.0408454545454551},{"$f":"C101*D101","v":202.04370000000006}]
["Desc. Semanal Remunerado HE 100%","hora",{"$f":"+C100*63/302","v":1.6688741721854305},{"$f":"+D99","v":20.40845454545455},{"$f":"C102*D102","v":34.059142685129451}]
["Desc. Semanal Remunerado HE 50%","hora",{"$f":"+C100*63/302","v":1.6688741721854305},{"$f":"+D100","v":18.367609090909095},{"$f":"C103*D103","v":30.653228416616503}]
["Desc. Semanal Remunerado Ad. Notur.","hora",{"$f":"+C101*63/302","v":20.652317880794701},{"$f":"+D101","v":2.0408454545454551},{"$f":"C104*D104","v":42.148189072847693}]
["Adicional de Insalubridade","%",{"$f":"+C89","v":40},{"$f":"+D89","v":1100},{"$f":"C105*D105/100","v":440}]
["Soma",null,null,null,{"$f":"SUM(E98:E105)","v":2864.042769265503}]
["Encargos Sociais","%",{"$f":"+C61","v":75.84},{"$f":"E106","v":2864.042769265503},{"$f":"D107*C107/100","v":2172.0900362109578}]
["Total por Motorista",null,null,null,{"$f":"E106+E107","v":5036.1328054764608}]
["Total do Efetivo","homem",13,{"$f":"E108","v":5036.1328054764608},{"$f":"C109*D109","v":65469.726471193993}]
[{"$nulls":5},{"$f":"E109","v":65469.726471193993}]
[]
["1.5. Motorista automóvel Turno do Dia"]
["Discriminação","Unidade","Quantidade","Preço unitário","Subtotal","Total (R$)"]
["Salário Normal","mês",1,{"$f":"+[1]insumos!C4","v":1761},{"$f":"C114*D114","v":1761}]
["Horas Extras (100%)","hora",{"$f":"+C85","v":8},{"$f":"(D114)/220*2","v":16.009090909090908},{"$f":"C115*D115","v":128.07272727272726}]
["Desc. Semanal Remunerado HE 100%","hora",{"$f":"+C115*63/302","v":1.6688741721854305},{"$f":"+D115","v":16.009090909090908},{"$f":"C116*D116","v":26.717158338350391}]
["Soma",null,null,null,{"$f":"SUM(E114:E116)","v":1915.7898856110776}]
["Encargos Sociais","%",{"$f":"+C91","v":75.84},{"$f":"E117","v":1915.7898856110776},{"$f":"D118*C118/100","v":1452.9350492474414}]
["Total por Motorista",null,null,null,{"$f":"E117+E118","v":3368.7249348585192}]
["Total do Efetivo","homem",1,{"$f":"E119","v":3368.7249348585192},{"$f":"C120*D120","v":3368.7249348585192}]
[{"$nulls":5},{"$f":"E120","v":3368.7249348585192}]
[]
["1.6. Motorista automóvel Turno da Noite"]
["Discriminação","Unidade","Quantidade","Preço unitário","Subtotal","Total (R$)"]
["Salário Normal","mês",1,{"$f":"D114","v":1761},{"$f":"C125*D125","v":1761}]
["Horas Extras (100%)","hora",{"$f":"+C99","v":8},{"$f":"(D125)/220*2","v":16.009090909090908},{"$f":"C126*D126","v":128.07272727272726}]
["Adicional Noturno","hora",{"$f":"C101","v":99},{"$f":"(D125)/220*0.2","v":1.6009090909090908},{"$f":"C127*D127","v":158.48999999999998}]
["Desc. Semanal Remunerado HE 100%","hora",{"$f":"+C126*63/302","v":1.6688741721854305},{"$f":"+D126","v":16.009090909090908},{"$f":"C128*D128","v":26.717158338350391}]
["Desc. Semanal Remunerado Ad. Notur.","hora",{"$f":"+C127*63/302","v":20.652317880794701},{"$f":"+D127","v":1.6009090909090908},{"$f":"C129*D129","v":33.062483443708608}]
["Soma",null,null,null,{"$f":"SUM(E125:E129)","v":2107.3423690547861}]
["Encargos Sociais","%",{"$f":"+C91","v":75.84},{"$f":"E130","v":2107.3423690547861},{"$f":"D131*C131/100","v":1598.2084526911497}]
["Total por Motorista",null,null,null,{"$f":"E130+E131","v":3705.5508217459355}]
["Total do Efetivo","homem",1,{"$f":"E132","v":3705.5508217459355},{"$f":"C133*D133","v":3705.5508217459355}]
[{"$nulls":5},{"$f":"E133","v":3705.5508217459355}]
[]
["1.7. Fiscal Turno do Dia/vespertino"]
["Discriminação","Unidade","Quantidade","Preço unitário","Subtotal","Total (R$)"]
["Salário Normal","mês",1,{"$f":"+ROUND(D54*1.5,2)","v":1777.4},{"$f":"C138*D138","v":1777.4}]
["Horas Extras (100%)","hora",{"$f":"+C85","v":8},{"$f":"(D138+E143)/220*2","v":20.15818181818182},{"$f":"C139*D139","v":161.26545454545456}]
["Horas Extras (50%)","hora",{"$f":"+C86","v":16},{"$f":"(D138+E143)/220*1.5","v":15.118636363636366},{"$f":"C140*D140","v":241.89818181818185}]
["Desc. Semanal Remunerado HE 100%","hora",{"$f":"+C139*63/302","v":1.6688741721854305},{"$f":"+D139","v":20.15818181818182},{"$f":"C141*D141","v":33.641468994581579}]
["Desc. Semanal Remunerado HE 50%","hora",{"$f":"+C140*63/302","v":3.3377483443708611},{"$f":"+D140","v":15.118636363636366},{"$f":"C142*D142","v":50.462203491872373}]
["Adicional de Insalubridade","%",{"$f":"+C59","v":40},{"$f":"+D89","v":1100},{"$f":"C143*D143/100","v":440}]
["Soma",null,null,null,{"$f":"SUM(E138:E143)","v":2704.6673088500902}]
["Encargos Sociais","%",{"$f":"+C61","v":75.84},{"$f":"E144","v":2704.6673088500902},{"$f":"D145*C145/100","v":2051.2196870319085}]
["Total por Fiscal",null,null,null,{"$f":"E144+E145","v":4755.8869958819987}]
["Total do Efetivo","homem",2,{"$f":"E146","v":4755.8869958819987},{"$f":"C147*D147","v":9511.7739917639974}]
[{"$nulls":5},{"$f":"E147","v":9511.7739917639974}]
[]
["1.8. Fiscal Turno da Noite"]
["Discriminação","Unidade","Quantidade","Preço unitário","Subtotal","Total (R$)"]
["Salário Normal","mês",1,{"$f":"+D138","v":1777.4},{"$f":"C152*D152","v":1777.4}]
["Horas Extras (100%)","hora",{"$f":"+C99","v":8},{"$f":"(D152+E159)/220*2","v":20.15818181818182},{"$f":"C153*D153","v":161.26545454545456}]
["Horas Extras (50%) noturna","hora",{"$f":"+C100","v":8},{"$f":"(D152+E159)/220*1.5*1.2","v":18.142363636363637},{"$f":"C154*D154","v":145.1389090909091}]
["Adicional Noturno","hora",{"$f":"C71","v":99},{"$f":"(D152+E159)/220*0.2","v":2.0158181818181822},{"$f":"C155*D155","v":199.56600000000003}]
["Desc. Semanal Remunerado HE 100%","hora",{"$f":"+C154*63/302","v":1.6688741721854305},{"$f":"+D153","v":20.15818181818182},{"$f":"C156*D156","v":33.641468994581579}]
["Desc. Semanal Remunerado HE 50%","hora",{"$f":"+C154*63/302","v":1.6688741721854305},{"$f":"+D154","v":18.142363636363637},{"$f":"C157*D157","v":30.277322095123424}]
["Desc. Semanal Remunerado Ad. Notur.","hora",{"$f":"+C155*63/302","v":20.652317880794701},{"$f":"+D155","v":2.0158181818181822},{"$f":"C158*D158","v":41.631317880794711}]
["Adicional de Insalubridade","%",{"$f":"+C143","v":40},{"$f":"+D89","v":1100},{"$f":"C159*D159/100","v":440}]
["Soma",null,null,null,{"$f":"SUM(E152:E159)","v":2828.9204726068629}]
["Encargos Sociais","%",{"$f":"+C61","v":75.84},{"$f":"E160","v":2828.9204726068629},{"$f":"D161*C161/100","v":2145.453286425045}]
["Total por Fiscal",null,null,null,{"$f":"E160+E161","v":4974.3737590319079}]
["Total do Efetivo","homem",1,{"$f":"E162","v":4974.3737590319079},{"$f":"C163*D163","v":4974.3737590319079}]
[{"$nulls":5},{"$f":"E163","v":4974.3737590319079}]
[]
["1.9. Auxiliar Operacional Turno do Dia/vespertino"]
["Discriminação","Unidade","Quantidade","Preço unitário","Subtotal","Total (R$)"]
["Salário Normal","mês",1,{"$f":"+D152","v":1777.4},{"$f":"C168*D168","v":1777.4}]
["Horas Extras (100%)","hora",{"$f":"+C139","v":8},{"$f":"D168/220*2","v":16.15818181818182},{"$f":"C169*D169","v":129.26545454545456}]
["Horas Extras (50%)","hora",{"$f":"+C140","v":16},{"$f":"D168/220*1.5","v":12.118636363636366},{"$f":"C170*D170","v":193.89818181818185}]
["Desc. Semanal Remunerado HE 100%","hora",{"$f":"+C169*63/302","v":1.6688741721854305},{"$f":"+D169","v":16.15818181818182},{"$f":"C171*D171","v":26.965972305839859}]
["Desc. Semanal Remunerado HE 50%","hora",{"$f":"+C170*63/302","v":3.3377483443708611},{"$f":"+D170","v":12.118636363636366},{"$f":"C172*D172","v":40.44895845875979}]
["Soma",null,null,null,{"$f":"SUM(E168:E170)","v":2100.5636363636363}]
["Encargos Sociais","%",{"$f":"+C61","v":75.84},{"$f":"E173","v":2100.5636363636363},{"$f":"D174*C174/100","v":1593.067461818182}]
["Total por Auxiliar Operacional",null,null,null,{"$f":"E173+E174","v":3693.6310981818183}]
["Total do Efetivo","homem",2,{"$f":"E175","v":3693.6310981818183},{"$f":"C176*D176","v":7387.2621963636366}]
[{"$nulls":5},{"$f":"E176","v":7387.2621963636366}]
[]
["1.10. Auxiliar Operacional Turno da Noite"]
["Discriminação","Unidade","Quantidade","Preço unitário","Subtotal","Total (R$)"]
["Salário Normal","mês",1,{"$f":"+D168","v":1777.4},{"$f":"C181*D181","v":1777.4}]
["Horas Extras (100%)","hora",{"$f":"+C153","v":8},{"$f":"D181/220*2","v":16.15818181818182},{"$f":"C182*D182","v":129.26545454545456}]
["Horas Extras (50%) noturna","hora",{"$f":"+C154","v":8},{"$f":"D181/220*1.5*1.2","v":14.542363636363639},{"$f":"C183*D183","v":116.33890909090911}]
["Adicional Noturno","hora",{"$f":"C71","v":99},{"$f":"D181/220*0.2","v":1.615818181818182},{"$f":"C184*D184","v":159.96600000000001}]
["Desc. Semanal Remunerado HE 100%","hora",{"$f":"+C183*63/302","v":1.6688741721854305},{"$f":"+D182","v":16.15818181818182},{"$f":"C185*D185","v":26.965972305839859}]
["Desc. Semanal Remunerado HE 50%","hora",{"$f":"+C183*63/302","v":1.6688741721854305},{"$f":"+D183","v":14.542363636363639},{"$f":"C186*D186","v":24.269375075255876}]
["Desc. Semanal Remunerado Ad. Notur.","hora",{"$f":"+C184*63/302","v":20.652317880794701},{"$f":"+D184","v":1.615818181818182},{"$f":"C187*D187","v":33.370390728476828}]
["Soma",null,null,null,{"$f":"SUM(E181:E184)","v":2182.9703636363638}]
["Encargos Sociais","%",{"$f":"+C174","v":75.84},{"$f":"E188","v":2182.9703636363638},{"$f":"D189*C189/100","v":1655.5647237818184}]
["Total por Auxiliar Operacional",null,null,null,{"$f":"E188+E189","v":3838.5350874181822}]
["Total do Efetivo","homem",1,{"$f":"E190","v":3838.5350874181822},{"$f":"C191*D191","v":3838.5350874181822}]
[{"$nulls":5},{"$f":"E191","v":3838.5350874181822}]
[]
["1.11. Gerente Operacional"]
["Discriminação","Unidade","Quantidade","Preço unitário","Subtotal","Total (R$)"]
["Salário Normal","mês",1,{"$f":"8.5*D89","v":9350},{"$f":"C196*D196","v":9350}]
["Encargos Sociais","%",{"$f":"+C61","v":75.84},{"$f":"E196","v":9350},{"$f":"C197*D197/100","v":7091.04}]
["Total de Gerente Operacional","homem",1,{"$f":"E196+E197","v":16441.04},{"$f":"C198*D198","v":16441.04}]
[{"$nulls":5},{"$f":"E198","v":16441.04}]
[]
["1.12. Vale Transporte"]
["Discriminação","Unidade","Quantidade","Preço unitário","Subtotal","Total (R$)"]
["Operário","vale",{"$f":"(C63+C79)*52","v":468},{"$f":"((52*1.5*4.55)-(E54*0.06))/52","v":5.4577730769230763},{"$f":"C203*D203","v":2554.2377999999999}]
["Motorista","vale",{"$f":"(C93+C109+C120+C133)*52","v":1612},{"$f":"((52*1.5*4.55)-(E84*0.06))/52","v":4.7423884615384617},{"$f":"C204*D204","v":7644.7302}]
["Fiscal","vale",{"$f":"+(C147+C163)*52","v":156},{"$f":"((52*1.5*4.55)-(E138*0.06))/52","v":4.7741538461538457},{"$f":"C205*D205","v":744.76799999999992}]
["Auxiliar Operacional","vale",{"$f":"+(C176+C191)*52","v":156},{"$f":"((52*1.5*4.55)-(E168*0.06))/52","v":4.7741538461538457},{"$f":"C206*D206","v":744.76799999999992}]
[{"$nulls":5},{"$f":"SUM(E203:E206)","v":11688.504000000001}]
[]
["1.13. Auxílio Alimentação/Alimentação"]
["Discriminação","Unidade","Quantidade","Preço unitário","Subtotal","Total (R$)"]
["Operários e outros","vale",{"$f":"(C63+C79+C147+C163+C176+C191+C198)*26","v":416},{"$f":"18.2*0.81","v":14.742000000000001},{"$f":"C211*D211","v":6132.6720000000005}]
[{"$f":"+A204","v":"Motorista"},"Unidade",{"$f":"(C93+C109)","v":29},{"$f":"90.93*0.8","v":72.744000000000014},{"$f":"C212*D212","v":2109.5760000000005}]
["Motorista","vale",{"$f":"+C212*26","v":754},{"$f":"11.98*0.8","v":9.5840000000000014},{"$f":"C213*D213","v":7226.3360000000011}]
["Motorista Automóvel","Unidade",{"$f":"+C120+C133","v":2},148.13999999999999,{"$f":"C214*D214","v":296.27999999999997}]
["Motorista Automóvel","vale",{"$f":"+C214*26","v":52},{"$f":"23*0.8","v":18.400000000000002},{"$f":"C215*D215","v":956.80000000000007}]
[{"$nulls":5},{"$f":"SUM(E211:E215)","v":16721.664000000004}]
[]
["1.14. Plano de Benefício Social Familiar"]
["Discriminação","Unidade","Quantidade","Preço unitário","Subtotal","Total (R$)"]
[{"$f":"+A211","v":"Operários e outros"},"Unidade",{"$f":"+C198+C191+C176+C163+C147+C79+C63","v":16},15.62,{"$f":"C220*D220","v":249.92}]
[{"$nulls":5},{"$f":"SUM(E220:E220)","v":249.92}]
[]
[]
["Custo Mensal com Mão-de-obra (R$/mês) ..............................................................................................",{"$nulls":4},{"$f":"SUM(F54:F221)","v":252745.09032441085}]
[]
[]
["2. Uniformes e Equipamentos de Proteção Individual"]
[]
["2.1. Uniformes e EPI's para Operário"]
[]
["Discriminação","Unidade","Quantidade","Preço unitário","Subtotal","Total (R$)"]
["Camisa com reflexivo (NBR 15.292)","unidade",0.16666666666666699,{"$f":"+[1]insumos!C28","v":59.333333333333336},{"$f":"C232*D232","v":9.8888888888889088}]
["Calça","unidade",0.33333333333333331,{"$f":"+[1]insumos!C29","v":52.879999999999995},{"$f":"C233*D233","v":17.626666666666665}]
["Camiseta de algodão","unidade",0.5,{"$f":"+[1]insumos!C30","v":22.733333333333334},{"$f":"C234*D234","v":11.366666666666667}]
["Boné","unidade",0.16666666666666666,{"$f":"+[1]insumos!C31","v":6.9133333333333331},{"$f":"C235*D235","v":1.152222222222222}]
["Botina de segurança c/ biqueira aço","par",0.16666666666666666,{"$f":"+[1]insumos!C32","v":59.896666666666668},{"$f":"C236*D236","v":9.9827777777777769}]
["Capa de chuva amarela com reflexivo","unidade",8.3333333333333329E-2,{"$f":"+[1]insumos!C33","v":34.733333333333334},{"$f":"C237*D237","v":2.8944444444444444}]
["Colete reflexivo","unidade",8.3333333333333329E-2,{"$f":"+[1]insumos!C34","v":20.946666666666669},{"$f":"C238*D238","v":1.7455555555555557}]
["Luva de proteção","par",0.5,{"$f":"+[1]insumos!C35","v":9.8666666666666654},{"$f":"C239*D239","v":4.9333333333333327}]
["Respirador semifacial p/ poeira e gases","unidade",3.3333333333333333E-2,{"$f":"+[1]insumos!C36","v":55.483333333333327},{"$f":"C240*D240","v":1.8494444444444442}]
["Jardineira com bota de borracha","unidade",8.3333333333333329E-2,{"$f":"[1]insumos!C38","v":169.56666666666669},{"$f":"C241*D241","v":14.130555555555556}]
["Protetor solar FPS 30","frasco 120g",0.5,{"$f":"+[1]insumos!C37","v":11.743333333333334},{"$f":"C242*D242","v":5.871666666666667}]
["Total do Efetivo","homem",{"$f":"+C63+C79","v":9},{"$f":"+SUM(E232:E242)","v":81.442222222222242},{"$f":"C243*D243","v":732.98000000000013}]
[{"$nulls":5},{"$f":"+E243","v":732.98000000000013}]
[]
["2.2. Uniformes e EPI's para Motorista, Fiscal e Auxiliar Operacional"]
[]
["Discriminação","Unidade","Quantidade","Preço unitário","Subtotal","Total (R$)"]
["Camisa com reflexivo (NBR 15.292)","unidade",0.16666666666666666,{"$f":"+D232","v":59.333333333333336},{"$f":"C249*D249","v":9.8888888888888893}]
["Calça","unidade",0.16666666666666666,{"$f":"+D233","v":52.879999999999995},{"$f":"C250*D250","v":8.8133333333333326}]
["Camiseta","unidade",0.33333333333333331,{"$f":"+D234","v":22.733333333333334},{"$f":"C251*D251","v":7.5777777777777775}]
["Botina de segurança c/ palmilha aço","par",0.16666666666666666,{"$f":"+D236","v":59.896666666666668},{"$f":"C252*D252","v":9.9827777777777769}]
["Capa de chuva amarela com reflexivo","unidade",8.3333333333333329E-2,{"$f":"+D237","v":34.733333333333334},{"$f":"C253*D253","v":2.8944444444444444}]
["Protetor solar FPS 30","frasco 120g",0.33333333333333331,{"$f":"+D242","v":11.743333333333334},{"$f":"C254*D254","v":3.9144444444444444}]
["Total do Efetivo","homem",{"$f":"+C93+C109+C120+C133+C147+C163+C176+C191","v":37},{"$f":"+SUM(E249:E254)","v":43.071666666666665},{"$f":"C255*D255","v":1593.6516666666666}]
[{"$nulls":5},{"$f":"+E255","v":1593.6516666666666}]
[]
["2.3 EPI's Covid"]
[]
["Discriminação","Unidade","Quantidade","Preço unitário","Subtotal","Total (R$)"]
["Alcóol em gel 70","litro",{"$f":"0.02*26","v":0.52},{"$f":"+[1]insumos!C39","v":10.516},{"$f":"+C261*D261","v":5.4683200000000003}]
["Mascará descartável","unidade",{"$f":"2*26","v":52},{"$f":"+[1]insumos!C40","v":0.62406666666666666},{"$f":"+C262*D262","v":32.451466666666668}]
["Dispensador para alcool em gel 30ml","unidade",0.16666666666666666,{"$f":"+[1]insumos!C41","v":1.1433333333333333},{"$f":"+C263*D263","v":0.19055555555555553}]
["Total do Efetivo","homem",{"$f":"+D35","v":47},{"$f":"+E263+E262+E261","v":38.110342222222222},{"$f":"+C264*D264","v":1791.1860844444445}]
[{"$nulls":5},{"$f":"+E264","v":1791.1860844444445}]
[]
[]
["Custo Mensal com Uniformes e EPI's (R$/mês) .........................................................................",{"$nulls":4},{"$f":"+F244+F256+F265","v":4117.8177511111116}]
[]
["3. Veículos e Equipamentos"]
[]
["3.1. Veículo Coletor Compactador (Truck)"]
[]
["3.1.1. Depreciação"]
["Discriminação","Unidade","Quantidade","Preço unitário","Subtotal","Total (R$)"]
["Custo de aquisição dos chassis","unidade",9,{"$f":"[1]insumos!C10","v":333288.66666666669},{"$f":"C276*D276","v":2999598}]
["Custo aquisição compact. carga lateral","unidade",{"$f":"+C276","v":9},{"$f":"+[1]insumos!C21","v":1400000},{"$f":"C277*D277","v":12600000}]
["Depreciação dos chassis (60 meses)","%",65,{"$f":"E276","v":2999598},{"$f":"C278*D278/100","v":1949738.7}]
["Depreciação compactadores (60 meses)","%",70,{"$f":"+E277","v":12600000},{"$f":"C279*D279/100","v":8820000}]
["Depreciação mensal veículos coletores","mês",60,{"$f":"E278+E279","v":10769738.699999999},{"$f":"D280/C280","v":179495.64499999999}]
[{"$nulls":5},{"$f":"E280","v":179495.64499999999}]
[]
["3.1.2.  Remuneração do Capital  Investido"]
["Discriminação","Unidade","Quantidade","Preço unitário","Subtotal","Total (R$)"]
["Valor resídual do veículo","%",35,{"$f":"+D278","v":2999598},{"$f":"+D285*C285/100","v":1049859.3}]
["Valor resídual do equipamento","%",30,{"$f":"+D279","v":12600000},{"$f":"+D286*C286/100","v":3780000}]
["Investimento médio","v. útil (anos)",7,null,{"$f":"((D286+D285-E286-E285)*(C287+1)/(2*C287))+E286+E285","v":10983995.699999999}]
["Remuneração mensal de capital","taxa selic",4.25,{"$f":"+E287","v":10983995.699999999},{"$f":"+D288*C288/100/12","v":38901.651437499997}]
[{"$nulls":5},{"$f":"+E288","v":38901.651437499997}]
[]
["3.1.3. Impostos e Seguros"]
["Discriminação","Unidade","Quantidade","Preço unitário","Subtotal","Total (R$)"]
["IPVA","unidade",{"$f":"C276","v":9},{"$f":"0.01*D276","v":3332.8866666666668},{"$f":"C293*D293","v":29995.98}]
["Taxas","unidade",{"$f":"C276","v":9},66.7,{"$f":"C294*D294","v":600.30000000000007}]
["Seguro contra terceiros","unidade",{"$f":"C276","v":9},1500,{"$f":"C295*D295","v":13500}]
["Impostos e seguros mensais","mês",12,{"$f":"SUM(E293:E295)","v":44096.28},{"$f":"D296/C296","v":3674.69}]
[{"$nulls":5},{"$f":"E296","v":3674.69}]
[]
["3.1.4. Consumos"]
["Discriminação","Unidade","Quantidade","Preço unitário","Subtotal","Total (R$)"]
["Custo de óleo diesel / km rodado","km/l",1.5,{"$f":"+[1]insumos!K2","v":4.1970000000000001}]
["Custo mensal com óleo diesel","km",{"$f":"19776+16330","v":36106},{"$f":"+D301/C301","v":2.798},{"$f":"C302*D302","v":101024.588}]
["C. de óleo do motor /1.000 km rodados","l/1.000 km",6,{"$f":"+[1]insumos!K3","v":17.151}]
["Custo mensal com óleo do motor","km",{"$f":"C302","v":36106},{"$f":"+C303*D303","v":102.90600000000001},{"$f":"C304*D304/1000","v":3715.5240360000003}]
["C. de óleo da transmissão /1.000 km","l/1.000 km",0.85,{"$f":"+[1]insumos!K4","v":18.45}]
["Custo mensal com óleo da transmissão","km",{"$f":"C302","v":36106},{"$f":"+C305*D305","v":15.682499999999999},{"$f":"C306*D306/1000","v":566.23234500000001}]
["C. de óleo hidráulico / 1.000 km","l/1.000 km",5,{"$f":"+[1]insumos!K5","v":13.689}]
["Custo mensal com óleo hidráulico","km",{"$f":"C302","v":36106},{"$f":"+C307*D307","v":68.444999999999993},{"$f":"C308*D308/1000","v":2471.2751699999999}]
["Custo de graxa /1.000 km rodados","kg/1.000 km",2,{"$f":"+[1]insumos!K6","v":12.8367}]
["Custo mensal com graxa","km",{"$f":"C302","v":36106},{"$f":"+C309*D309","v":25.673400000000001},{"$f":"C310*D310/1000","v":926.96378040000002}]
[{"$nulls":5},{"$f":"SUM(E301:E310)","v":108704.58333139999}]
[]
["3.1.5. Manutenção"]
["Discriminação","Unidade","Quantidade","Preço unitário","Subtotal","Total (R$)"]
["Custo de aquisição dos chassis","unidade",{"$f":"C276","v":9},{"$f":"D276","v":333288.66666666669},{"$f":"C315*D315","v":2999598}]
[{"$f":"+A277","v":"Custo aquisição compact. carga lateral"},"unidade",{"$f":"C277","v":9},{"$f":"D277","v":1400000},{"$f":"C316*D316","v":12600000}]
["Custo estim. c/manutenção (60 meses)","%",75,{"$f":"SUM(E315:E316)","v":15599598},{"$f":"C317*D317/100","v":11699698.5}]
["Custo mensal com manutenção","mês",60,{"$f":"E317","v":11699698.5},{"$f":"D318/C318","v":194994.97500000001}]
[{"$nulls":5},{"$f":"E318","v":194994.97500000001}]
[]
["3.1.6. Pneus"]
["Discriminação","Unidade","Quantidade","Preço unitário","Subtotal","Total (R$)"]
["Custo do jogo de pneus 275/80 R 22,5","unidade",10,{"$f":"[1]insumos!K11","v":2067.4233333333332},{"$f":"C323*D323","v":20674.23333333333}]
["Custo de recapagem","unidade",{"$f":"C323","v":10},{"$f":"+[1]insumos!K12","v":413.48},{"$f":"C324*D324","v":4134.8}]
["Custo jg. compl. + recap. / km rodado","km/jogo",70000,{"$f":"E323+E324","v":24809.033333333329},{"$f":"D325/C325","v":0.35441476190476184}]
["Custo mensal com pneus","km",{"$f":"C302","v":36106},{"$f":"E325","v":0.35441476190476184},{"$f":"C326*D326","v":12796.499393333332}]
[{"$nulls":5},{"$f":"E326","v":12796.499393333332}]
[]
["Total do Item 3.1",{"$f":"F327+F319+F311+F297+F289+F281","v":538568.04416223336}]
[]
["3.2. Veículo Equipado com Lavadora de Contêiner"]
[]
["3.2.1. Depreciação"]
["Discriminação","Unidade","Quantidade","Preço unitário","Subtotal","Total (R$)"]
["Custo de aquisição dos chassis","unidade",4,{"$f":"[1]insumos!C11","v":307601.66666666669},{"$f":"C335*D335","v":1230406.6666666667}]
["Custo de aquisição equip. de lavagem","unidade",{"$f":"C335","v":4},{"$f":"+[1]insumos!C22","v":1620000},{"$f":"C336*D336","v":6480000}]
["Depreciação dos chassis (60 meses)","%",65,{"$f":"E335","v":1230406.6666666667},{"$f":"C337*D337/100","v":799764.33333333349}]
["Depreciação equip. lavagem (60 meses)","%",70,{"$f":"E336","v":6480000},{"$f":"C338*D338/100","v":4536000}]
["Depreciação mensal dos veículos","mês",60,{"$f":"E337+E338","v":5335764.333333334},{"$f":"D339/C339","v":88929.405555555568}]
[{"$nulls":5},{"$f":"E339","v":88929.405555555568}]
[]
["3.2.2. Remuneração do Capital  Investido"]
["Discriminação","Unidade","Quantidade","Preço unitário","Subtotal","Total (R$)"]
["Valor resídual do veículo","%",35,{"$f":"+E335","v":1230406.6666666667},{"$f":"+D344*C344/100","v":430642.33333333337}]
["Valor resídual do equipamento","%",30,{"$f":"+E336","v":6480000},{"$f":"+D345*C345/100","v":1944000}]
["Investimento médio","v. útil (anos)",7,null,{"$f":"((D345+D344-E345-E344)*(C346+1)/(2*C346))+E345+E344","v":5423650.5238095233}]
["Remuneração mensal de capital","taxa selic",4.25,{"$f":"+E346","v":5423650.5238095233},{"$f":"+C347*D347/100/12","v":19208.762271825395}]
[{"$nulls":5},{"$f":"+E347","v":19208.762271825395}]
[]
["3.2.3. Impostos e Seguros"]
["Discriminação","Unidade","Quantidade","Preço unitário","Subtotal","Total (R$)"]
["IPVA","unidade",{"$f":"C335","v":4},{"$f":"0.01*D335","v":3076.0166666666669},{"$f":"C352*D352","v":12304.066666666668}]
["Taxas","unidade",{"$f":"C335","v":4},{"$f":"+D294","v":66.7},{"$f":"C353*D353","v":266.8}]
["Seguro contra terceiros","unidade",{"$f":"C335","v":4},{"$f":"+D295","v":1500},{"$f":"C354*D354","v":6000}]
["Impostos e seguros mensais","mês",12,{"$f":"SUM(E352:E354)","v":18570.866666666669},{"$f":"D355/C355","v":1547.5722222222223}]
[{"$nulls":5},{"$f":"E355","v":1547.5722222222223}]
[]
["3.2.4. Consumos"]
["Discriminação","Unidade","Quantidade","Preço unitário","Subtotal","Total (R$)"]
["Custo de óleo diesel / km rodado","km/l",1.7,{"$f":"+D301","v":4.1970000000000001}]
["Custo mensal com óleo diesel","km",{"$f":"3516+2816","v":6332},{"$f":"+D360/C360","v":2.4688235294117646},{"$f":"C361*D361","v":15632.590588235294}]
["C. de óleo do motor /1.000 km rodados","l/1.000 km",6,{"$f":"+D303","v":17.151}]
["Custo mensal com óleo do motor","km",{"$f":"C361","v":6332},{"$f":"+C362*D362","v":102.90600000000001},{"$f":"C363*D363/1000","v":651.60079200000007}]
["C. de óleo da transmissão /1.000 km","l/1.000 km",0.85,{"$f":"+D305","v":18.45}]
["Custo mensal com óleo da transmissão","km",{"$f":"C361","v":6332},{"$f":"+C364*D364","v":15.682499999999999},{"$f":"C365*D365/1000","v":99.30158999999999}]
["C. de óleo hidráulico / 1.000 km","l/1.000 km",5,{"$f":"+D307","v":13.689}]
["Custo mensal com óleo hidráulico","km",{"$f":"C361","v":6332},{"$f":"+C366*D366","v":68.444999999999993},{"$f":"C367*D367/1000","v":433.39373999999992}]
["Custo de graxa /1.000 km rodados","kg/1.000 km",2,{"$f":"+D309","v":12.8367}]
["Custo mensal com graxa","km",{"$f":"C361","v":6332},{"$f":"+C368*D368","v":25.673400000000001},{"$f":"C369*D369/1000","v":162.5639688}]
[{"$nulls":5},{"$f":"SUM(E360:E369)","v":16979.450679035293}]
[]
["3.2.5. Manutenção"]
["Discriminação","Unidade","Quantidade","Preço unitário","Subtotal","Total (R$)"]
["Custo de aquisição dos chassis","unidade",{"$f":"C335","v":4},{"$f":"D335","v":307601.66666666669},{"$f":"C374*D374","v":1230406.6666666667}]
["Custo de aquisição equip. de lavagem","unidade",{"$f":"C336","v":4},{"$f":"D336","v":1620000},{"$f":"C375*D375","v":6480000}]
["Custo estim. c/manutenção (60 meses)","%",75,{"$f":"E374+E375","v":7710406.666666667},{"$f":"C376*D376/100","v":5782805}]
["Custo mensal com manutenção","mês",60,{"$f":"E376","v":5782805},{"$f":"D377/C377","v":96380.083333333328}]
[{"$nulls":5},{"$f":"E377","v":96380.083333333328}]
[]
["3.2.6. Pneus"]
["Discriminação","Unidade","Quantidade","Preço unitário","Subtotal","Total (R$)"]
["Custo do jogo de pneus 275/80 R 22,5","unidade",6,{"$f":"+D323","v":2067.4233333333332},{"$f":"C382*D382","v":12404.539999999999}]
["Custo de recapagem","unidade",{"$f":"C382","v":6},{"$f":"+D324","v":413.48},{"$f":"C383*D383","v":2480.88}]
["Custo jg. compl. + recap. / km rodado","km/jogo",70000,{"$f":"E382+E383","v":14885.419999999998},{"$f":"D384/C384","v":0.21264885714285711}]
["Custo mensal com pneus","km",{"$f":"C361","v":6332},{"$f":"E384","v":0.21264885714285711},{"$f":"C385*D385","v":1346.4925634285712}]
[{"$nulls":5},{"$f":"E385","v":1346.4925634285712}]
[]
["Total do Item 3.2",{"$f":"F386+F378+F370+F356+F348+F340","v":224391.76662540037}]
[]
["3.3. Veículo Toco com Carroceria de Madeira"]
[]
["3.3.1. Depreciação"]
["Discriminação","Unidade","Quantidade","Preço unitário","Subtotal","Total (R$)"]
["Custo de aquisição do chassi","unidade",2,{"$f":"+[1]insumos!C12","v":251168.66666666666},{"$f":"C394*D394","v":502337.33333333331}]
["Custo aquisição carroceria (cpr. min 6m)","unidade",{"$f":"+C394","v":2},{"$f":"+[1]insumos!C23","v":14400},{"$f":"C395*D395","v":28800}]
["Custo de aquisição do braço hidráulico","unidade",{"$f":"+C394","v":2},{"$f":"+[1]insumos!C24","v":54554.25},{"$f":"C396*D396","v":109108.5}]
["Depreciação do chassi (60 meses)","%",65,{"$f":"E394","v":502337.33333333331},{"$f":"C397*D397/100","v":326519.26666666666}]
["Depreciação carroceria (60 meses)","%",50,{"$f":"+E395","v":28800},{"$f":"C398*D398/100","v":14400}]
["Depreciação braço hidráulico (60 meses)","%",50,{"$f":"+E396","v":109108.5},{"$f":"C399*D399/100","v":54554.25}]
["Depreciação mensal do veículo","mês",60,{"$f":"SUM(E397:E399)","v":395473.51666666666},{"$f":"D400/C400","v":6591.2252777777776}]
[{"$nulls":5},{"$f":"E400","v":6591.2252777777776}]
[]
["3.3.2. Remuneração do Capital  Investido"]
["Discriminação","Unidade","Quantidade","Preço unitário","Subtotal","Total (R$)"]
["Valor resídual do veículo","%",35,{"$f":"+D394","v":251168.66666666666},{"$f":"C405*D405/100","v":87909.033333333326}]
["Valor resídual do equipamento","%",30,{"$f":"+D395+D396","v":68954.25},{"$f":"C406*D406/100","v":20686.275000000001}]
["Investimento médio","v. útil (anos)",8,null,{"$f":"((D406+D405-E406-E405)*(C407+1)/(2*C407))+E406+E405","v":227579.5880208333}]
["Remuneração mensal de capital","taxa selic",4.25,{"$f":"+E407","v":227579.5880208333},{"$f":"+C408*D408/100/12","v":806.01104090711794}]
[{"$nulls":5},{"$f":"+E408","v":806.01104090711794}]
[]
["3.3.3. Impostos e Seguros"]
["Discriminação","Unidade","Quantidade","Preço unitário","Subtotal","Total (R$)"]
["IPVA","unidade",{"$f":"C396","v":2},{"$f":"0.01*D394","v":2511.6866666666665},{"$f":"C413*D413","v":5023.373333333333}]
["Taxas","unidade",{"$f":"C396","v":2},{"$f":"+D294","v":66.7},{"$f":"C414*D414","v":133.4}]
["Seguro contra terceiros","unidade",{"$f":"C396","v":2},{"$f":"+D295","v":1500},{"$f":"C415*D415","v":3000}]
["Impostos e seguros mensais","mês",12,{"$f":"SUM(E413:E415)","v":8156.7733333333326},{"$f":"D416/C416","v":679.73111111111109}]
[{"$nulls":5},{"$f":"E416","v":679.73111111111109}]
[]
["3.3.4. Consumos"]
["Discriminação","Unidade","Quantidade","Preço unitário","Subtotal","Total (R$)"]
["Custo de óleo diesel / km rodado","km/l",3,{"$f":"+D301","v":4.1970000000000001}]
["Custo mensal com óleo diesel","km",4680,{"$f":"+D421/C421","v":1.399},{"$f":"C422*D422","v":6547.32}]
["C. de óleo do motor /1.000 km rodados","l/1.000 km",6,{"$f":"+D303","v":17.151}]
["Custo mensal com óleo do motor","km",{"$f":"C422","v":4680},{"$f":"+C423*D423","v":102.90600000000001},{"$f":"C424*D424/1000","v":481.60007999999999}]
["C. de óleo da transmissão /1.000 km","l/1.000 km",0.85,{"$f":"+D305","v":18.45}]
["Custo mensal com óleo da transmissão","km",{"$f":"C422","v":4680},{"$f":"+C425*D425","v":15.682499999999999},{"$f":"C426*D426/1000","v":73.394099999999995}]
["C. de óleo hidráulico / 1.000 km","l/1.000 km",1,{"$f":"+D307","v":13.689}]
["Custo mensal com óleo hidráulico","km",{"$f":"C422","v":4680},{"$f":"+C427*D427","v":13.689},{"$f":"C428*D428/1000","v":64.064520000000002}]
["Custo de graxa /1.000 km rodados","kg/1.000 km",1,{"$f":"+D309","v":12.8367}]
["Custo mensal com graxa","km",{"$f":"C422","v":4680},{"$f":"+C429*D429","v":12.8367},{"$f":"C430*D430/1000","v":60.075755999999998}]
[{"$nulls":5},{"$f":"SUM(E421:E430)","v":7226.4544560000004}]
[]
["3.3.5. Manutenção"]
["Discriminação","Unidade","Quantidade","Preço unitário","Subtotal","Total (R$)"]
["Custo de aquisição dos chassis","unidade",{"$f":"C394","v":2},{"$f":"D394","v":251168.66666666666},{"$f":"C435*D435","v":502337.33333333331}]
["Custo de aquisição cabine suplementar","unidade",{"$f":"+C435","v":2},{"$f":"+D395","v":14400},{"$f":"C436*D436","v":28800}]
["Custo de aquisição da caçamba","unidade",{"$f":"+C435","v":2},{"$f":"+D396","v":54554.25},{"$f":"C437*D437","v":109108.5}]
["Custo estim. c/manutenção (60 meses)","%",65,{"$f":"SUM(E435:E437)","v":640245.83333333326},{"$f":"C438*D438/100","v":416159.79166666663}]
["Custo mensal com manutenção","mês",60,{"$f":"E438","v":416159.79166666663},{"$f":"D439/C439","v":6935.9965277777774}]
[{"$nulls":5},{"$f":"E439","v":6935.9965277777774}]
[]
["3.3.6. Pneus"]
["Discriminação","Unidade","Quantidade","Preço unitário","Subtotal","Total (R$)"]
["Custo do jogo de pneus 275/80 R 22,5","unidade",6,{"$f":"+D382","v":2067.4233333333332},{"$f":"C444*D444","v":12404.539999999999}]
["Custo de recapagem","unidade",{"$f":"C444","v":6},{"$f":"+D383","v":413.48},{"$f":"C445*D445","v":2480.88}]
["Custo jg. compl. + recap. / km rodado","km/jogo",70000,{"$f":"E444+E445","v":14885.419999999998},{"$f":"D446/C446","v":0.21264885714285711}]
["Custo mensal com pneus","km",{"$f":"C422","v":4680},{"$f":"E446","v":0.21264885714285711},{"$f":"C447*D447","v":995.19665142857127}]
[{"$nulls":5},{"$f":"E447","v":995.19665142857127}]
[]
["Total do Item 3.3",{"$f":"F448+F440+F431+F417+F409+F401","v":23234.615065002356}]
[]
[]
["3.4. Veículos e Equipamentos","(Apoio Operacional)"]
[]
["Discriminação","Unidade","Quantidade","Preço unitário","Subtotal","Total (R$)"]
["Picape, cabine dupla","mês",2,{"$f":"+[1]insumos!C13","v":3036.6666666666665},{"$f":"C456*D456","v":6073.333333333333}]
["Automóvel (locação)","mês",2,{"$f":"+[1]insumos!C14","v":1518.3333333333333},{"$f":"C457*D457","v":3036.6666666666665}]
["Combustível (Diesel)","litro",{"$f":"ROUND(C361/7,0)/2","v":452.5},{"$f":"[1]insumos!K2","v":4.1970000000000001},{"$f":"C458*D458","v":1899.1424999999999}]
["Combustível (Gasolina)","litro",{"$f":"ROUND(C361/10,0)","v":633},{"$f":"+[1]insumos!K7","v":5.4349999999999996},{"$f":"C459*D459","v":3440.3549999999996}]
["Comunicação móvel -pacote dados","unidade",{"$f":"+E38+E39+E40+E41+D30+D31+D34+D32+D33","v":24},38.700000000000003,{"$f":"+D460*C460","v":928.80000000000007}]
[{"$nulls":5},{"$f":"SUM(E456:E460)","v":15378.297499999999}]
[]
["Custo Mensal com Veículos e Equipamentos (R$/mês) ................................................................................",{"$nulls":4},{"$f":"+SUM(F276:F462)","v":801572.72335263609}]
[]
["4. Contêineres"]
[]
["4.1. Contêiner de Aço Galvanizado de 2,4m³, para sistema de carga lateral"]
[]
["4.1.1. Depreciação"]
["Discriminação","Unidade","Quantidade","Preço unitário","Subtotal","Total (R$)"]
["Custo de aquisição dos contêineres","unidade",1170,{"$f":"+[1]insumos!C19","v":12870},{"$f":"C471*D471","v":15057900}]
["Depreciação contêineres (60 meses)","%",70,{"$f":"E471","v":15057900},{"$f":"C472*D472/100","v":10540530}]
["Depreciação mensal dos contêineres","mês",60,{"$f":"E472","v":10540530},{"$f":"D473/C473","v":175675.5}]
[{"$nulls":5},{"$f":"E473","v":175675.5}]
[]
["4.1.2. Remuneração do Capital  Investido"]
["Discriminação","Unidade","Quantidade","Preço unitário","Subtotal","Total (R$)"]
["Custo dos contêineres","unidade",1,{"$f":"E471","v":15057900},{"$f":"C478*D478","v":15057900}]
["Remuneração mensal de capital","%",{"$f":"4.25/12","v":0.35416666666666669},{"$f":"E478","v":15057900},{"$f":"C479*D479/100","v":53330.0625}]
[{"$nulls":5},{"$f":"E479","v":53330.0625}]
[]
["4.1.3. Manutenção e Reposição de Perdas"]
["Discriminação","Unidade","Quantidade","Preço unitário","Subtotal","Total (R$)"]
["Custo de aquisição dos contêineres","unidade",{"$f":"C471","v":1170},{"$f":"D471","v":12870},{"$f":"C484*D484","v":15057900}]
["Custo est. manut./reposição (60 meses)","%",35,{"$f":"E484","v":15057900},{"$f":"C485*D485/100","v":5270265}]
["Custo mensal com manut./reposição","mês",60,{"$f":"E485","v":5270265},{"$f":"D486/C486","v":87837.75}]
[{"$nulls":5},{"$f":"E486","v":87837.75}]
[]
["Total do Item 4.1",{"$f":"F487+F480+F474","v":316843.3125}]
[]
["4.2. Contêiner de Aço Galvanizado de 3,2m³, para sistema de carga lateral"]
[]
["4.2.1. Depreciação"]
["Discriminação","Unidade","Quantidade","Preço unitário","Subtotal","Total (R$)"]
["Custo de aquisição dos contêineres","unidade",1580,{"$f":"+[1]insumos!C20","v":13160},{"$f":"C495*D495","v":20792800}]
["Depreciação contêineres (60 meses)","%",{"$f":"+C472","v":70},{"$f":"E495","v":20792800},{"$f":"C496*D496/100","v":14554960}]
["Depreciação mensal dos contêineres","mês",60,{"$f":"E496","v":14554960},{"$f":"D497/C497","v":242582.66666666666}]
[{"$nulls":5},{"$f":"E497","v":242582.66666666666}]
[]
["4.2.2. Remuneração do Capital  Investido"]
["Discriminação","Unidade","Quantidade","Preço unitário","Subtotal","Total (R$)"]
["Custo dos contêineres","unidade",1,{"$f":"E495","v":20792800},{"$f":"C502*D502","v":20792800}]
["Remuneração mensal de capital","%",{"$f":"+C479","v":0.35416666666666669},{"$f":"E502","v":20792800},{"$f":"C503*D503/100","v":73641.166666666672}]
[{"$nulls":5},{"$f":"E503","v":73641.166666666672}]
[]
["4.2.3. Manutenção e Reposição de Perdas"]
["Discriminação","Unidade","Quantidade","Preço unitário","Subtotal","Total (R$)"]
["Custo de aquisição dos contêineres","unidade",{"$f":"C495","v":1580},{"$f":"D495","v":13160},{"$f":"C508*D508","v":20792800}]
["Custo est. manut./reposição (60 meses)","%",{"$f":"C485","v":35},{"$f":"E508","v":20792800},{"$f":"C509*D509/100","v":7277480}]
["Custo mensal com manut./reposição","mês",{"$f":"C486","v":60},{"$f":"E509","v":7277480},{"$f":"D510/C510","v":121291.33333333333}]
[{"$nulls":5},{"$f":"E510","v":121291.33333333333}]
[]
["Total do Item 4.2",{"$f":"F511+F504+F498","v":437515.16666666663}]
[]
[]
["Custo Mensal com Contêineres (R$/mês) ............................................................................................",{"$nulls":4},{"$f":"SUM(F471:F515)","v":754358.47916666663}]
[]
["5. Ferramentas e Materiais de Consumo"]
[]
["Discriminação","Unidade","Quantidade","Preço unitário","Subtotal","Total (R$)"]
["Recipiente térmico para água (5L)","unidade",{"$f":"(1/12)*(E38+E39+E40+E41)","v":1.4166666666666665},{"$f":"+[1]insumos!K19","v":36.330000000000005},{"$f":"C521*D521","v":51.467500000000001}]
["Pá de Concha","unidade",{"$f":"+SUM(E41)*(2/12*1)","v":0.33333333333333331},{"$f":"+[1]insumos!K20","v":25.623333333333335},{"$f":"C522*D522","v":8.5411111111111104}]
["Vassoura","unidade",{"$f":"+E41*4/12","v":0.66666666666666663},{"$f":"+[1]insumos!K21","v":22.033333333333335},{"$f":"C523*D523","v":14.68888888888889}]
["Cone de Sinalização","unidade",{"$f":"(1/30)*2*(E38+E39+E40+E41)","v":1.1333333333333333},{"$f":"[1]insumos!K26","v":118.11666666666667},{"$f":"C524*D524","v":133.86555555555557}]
["Kit primeiro socorro","unidade",{"$f":"(1/12)*(E38+E39+E40+E41)","v":1.4166666666666665},{"$f":"[1]insumos!K27","v":86.066666666666663},{"$f":"C525*D525","v":121.92777777777776}]
["Enzima líquida (lavagem contêineres)","litros",{"$f":"26*5","v":130},{"$f":"+[1]insumos!K22","v":15},{"$f":"C526*D526","v":1950}]
["Água potável (lavadora contêineres)","m³",{"$f":"26*(5+5+5+5)","v":520},{"$f":"+[1]insumos!K23","v":17.809999999999999},{"$f":"C527*D527","v":9261.1999999999989}]
["Água potável (lavagem externa contêin.)","m³",{"$f":"26*0.2*2","v":10.4},{"$f":"+D527","v":17.809999999999999},{"$f":"C528*D528","v":185.22399999999999}]
["Mater. limpeza (Equipe lavag. contêineres)","verba",1,300,{"$f":"C529*D529","v":300}]
["Publicidade (adesivos equipamentos)","cj",{"$f":"+(E38+E39)/12","v":1.0833333333333333},{"$f":"[1]insumos!K25*(2*(2*1.5)+(2*1))","v":301.83999999999997},{"$f":"C530*D530","v":326.99333333333328}]
["Publicidade (adesivos veículos)","cj",{"$f":"+SUM(E38+E39+E40+E41)/12","v":1.4166666666666667},{"$f":"[1]insumos!K25*(2*(0.5*0.4))","v":15.091999999999999},{"$f":"C531*D531","v":21.380333333333333}]
["Publicidade (adesivos contêineres)","cj",{"$f":"+(E45+E46)/12","v":229.16666666666666},{"$f":"[1]insumos!K25*(2*1*0.15+1*0.9*0.6)","v":31.693200000000001},{"$f":"C532*D532","v":7263.0249999999996}]
[{"$nulls":5},{"$f":"SUM(E521:E532)","v":19638.313499999997}]
[]
["Custo Mensal com Ferramentas e Materiais de Consumo (R$/mês) ..............................................",{"$nulls":4},{"$f":"+F533","v":19638.313499999997}]
[]
["6. Monitoramento da Frota"]
[]
["Discriminação","Unidade","Quantidade","Preço unitário","Subtotal","Total (R$)"]
["Implantação dos sistemas/chaves/APP","cj",1,21100,{"$f":"+D540*C540","v":21100}]
["Inplantação mensal","mês",60,{"$f":"+E540/C541","v":351.66666666666669},{"$f":"+D541","v":351.66666666666669}]
["Custo mensal sistema rotarização","mensalidade",{"$f":"E38+E39","v":13},35,{"$f":"+D542*C542","v":455}]
["Custo mensal sistema imagens","mensalidade",{"$f":"+C542","v":13},500,{"$f":"+D543*C543","v":6500}]
["Custo mensal sistema monitoramento","mensalidade",19,165,{"$f":"C544*D544","v":3135}]
[{"$nulls":5},{"$f":"SUM(E541:E544)","v":10441.666666666668}]
[]
["Custo Mensal com Monitoramento da Frota (R$/mês) ............................................................",{"$nulls":4},{"$f":"+F545","v":10441.666666666668}]
[]
["7. Despesas Iniciais com Implantação"]
[]
["Discriminação","Unidade","Quantidade","Preço unitário","Subtotal","Total (R$)"]
["Caminhão c/ braço hidráulico (locação)","unidade",10,{"$f":"+[1]insumos!C15","v":1000},{"$f":"D552*C552","v":10000}]
["Contratação mão-de-obra temporária","homem",10,{"$f":"+ROUND(D79/26,2)","v":143.13},{"$f":"D553*C553","v":1431.3}]
["Tempo de implantação","dias",21,{"$f":"+E552+E553","v":11431.3},{"$f":"+D554*C554","v":240057.3}]
["Diluição do custo (60 meses)","mês",60,{"$f":"+E554","v":240057.3},{"$f":"+D555/C555","v":4000.9549999999999}]
[{"$nulls":5},{"$f":"+E555","v":4000.9549999999999}]
[]
["Custo Mensal com Despesas Iniciais com Implantação (R$/mês) ..............................................",{"$nulls":4},{"$f":"+F556","v":4000.9549999999999}]
[]
["CUSTO TOTAL MENSAL COM DESPESAS OPERACIONAIS (R$/mês) ........................................................................................................",{"$nulls":4},{"$f":"+F224+F268+F463+F516+F535+F547+F558","v":1846875.0457614916}]
[]
["8. Benefícios e Despesas Indiretas - BDI"]
[]
["Discriminação","Unidade","Quantidade","Preço unitário","Subtotal","Total (R$)"]
["Benefícios e despesas indiretas","%",{"$f":"+C640*100","v":29.62},{"$f":"+F560","v":1846875.0457614916},{"$f":"C565*D565/100","v":547044.38855455385}]
[{"$nulls":5},{"$f":"+E565","v":547044.38855455385}]
[]
["Custo Mensal com BDI (R$/mês) .............................................................................................",{"$nulls":4},{"$f":"F566","v":547044.38855455385}]
[]
["CUSTOS MENSAL TOTAL (R$/mês) ....................................................................................................",{"$nulls":4},{"$f":"F560+F568","v":2393919.4343160456}]
[]
[]
[]
["RATEIO DOS CUSTOS MENSAIS"]
[]
["(A) Total de custos mensais",null,null,null,"[R$]",{"$f":"+F570","v":2393919.4343160456}]
[]
["(B) Volume total de containeres a disposição",null,null,null,"[m³]",{"$f":"+C471*2.4+C495*3.2","v":7864}]
[]
["CUSTO UNITÁRIO [ A/B ]",null,null,null,"(R$/m³)",{"$f":"F576/F578","v":304.41498401780842}]
[]
[]
[]
["Informações para fins de dedução no cálculo da retenção de INSS"]
["Total com materiais e equipamentos, exceto os equipamentos manuais (R$/mês).............................................",null,null,null,{"$f":"+F463+F516","v":1555931.2025193027},{"$f":"+E585/F576","v":0.64995136436738099}]
["Unitário com materiais e equipamentos, exceto os equipamentos manuais (R$/m³).............................................",null,null,null,{"$f":"+F585*F580","v":197.85493419624908}]
[]
[]
[]
["Encargos Sociais"]
["(cfe. \"Orientação técnica serviços coleta resíduos sólidos domiciliares\" publicada pelo TCE/RS)"]
["Grupo A"]
["INSS",0.2]
["FGTS",0.08]
["Seg. Acid. Trabalho",0.03]
["Salário Educação",2.5000000000000001E-2]
["Sebrae",6.0000000000000001E-3]
["Sesi/Sesc/DPC/Faer",1.4999999999999999E-2]
["Senai/Senac/DPC/Faer",0.01]
["Incra",2E-3]
["Sub-total",{"$f":"SUM(B593:B600)","v":0.3680000000000001}]
[]
["Grupo B - Incidem Encargos Sociais"]
["Férias Gozadas",5.5599999999999997E-2]
["Auxílio Doença",1.66E-2]
["Auxílio Acidente de Trabalho",3.0999999999999999E-3]
["13º Salário",8.3299999999999999E-2]
["Licença Paternidade",5.9999999999999995E-4]
["Licença Maternidade",0]
["Faltas Justificadas",8.2000000000000007E-3]
["Sub-total",{"$f":"SUM(B604:B610)","v":0.16740000000000002}]
[]
["Grupo C - Não incidem Encargos Sociais"]
["Férias Indenizadas s/ Aviso Prévio Ind.",5.1999999999999998E-3]
["Aviso Prévio Indenizado",4.6699999999999998E-2]
["Depósito Recisão sem Justa Causa",3.3599999999999998E-2]
["Indenização Adicional",3.2000000000000002E-3]
["Férias Indenizadas",5.5500000000000001E-2]
["Sub-total",{"$f":"SUM(B614:B618)","v":0.14419999999999999}]
[]
["Grupo D - Reincidências"]
["Grupo A sobre Grupo B",{"$f":"+ROUND(B611*B601,4)","v":6.1600000000000002E-2}]
["Grupo A sobre Aviso Prévio Trabalhado",1.72E-2]
["Sub-total",{"$f":"SUM(B622:B623)","v":7.8800000000000009E-2}]
[]
["Total para Encargos Sociais",{"$f":"B601+B611+B619+B624","v":0.75840000000000007}]
[]
[]
[]
["Composição do BDI - Benefícios e Despesas Indiretas"]
["(cfe. \"Orientação técnica serviços coleta resíduos sólidos domiciliares\" publicada pelo TCE/RS)"]
["Administração Central","AC",5.0799999999999998E-2]
["Seguros/Riscos/Garantias","SRG",1.3299999999999999E-2]
["Lucro","L",0.1085]
["Despesas Financeiras","DF",3.8E-3]
["Tributos - ISS","T",0.05]
["Tributos - PIS/COFINS",null,3.6499999999999998E-2]
["Fórmula para o cálculo do BDI:"]
["{[(1+AC+SRG) x (1+L) x (1+DF)] / (1-T)} -1"]
["Resultado do cálculo do BDI:",null,{"$f":"ROUND((((1+C632+C633)*(1+C634)*(1+C635))/(1-(C636+C637))-1),4)","v":0.29620000000000002}]