{"text_format":"2","workbook":"xlsx","n_sheets":4,"sheets":["planilha orçamento PB","Cronograma Físico-Financeiro","COTAÇÕES ","orcamento preliminar"],"not_rendered":{"charts":0,"images":0,"macros":0,"external_links":0,"defined_names":7,"comments":2,"pivot_tables":0},"unopened":[],"bounds":{"document_bytes":16777216,"sheet_cells":100000,"run_cost":"one","rows_first":2000,"rows_last":500,"rows_between":2000,"halvings":0,"cell_chars":16384,"cell_head_chars":4096},"cells_cut":0,"cells_raw":0,"read":"whole","date_system":"1900"}

{"sheet":"planilha orçamento PB","index":0,"n_rows":30,"n_cols":8,"rows_kept":30,"cut":false,"hidden":false,"merged":[[1,0,1,7],[3,0,3,7],[4,0,6,7],[7,0,7,1],[29,1,29,4],[8,0,8,7]]}
[]
["PREFEITURA MUNICIPAL DE PORTO ALEGRE"]
[]
["DEPARTAMENTO MUNICIPAL DE LIMPEZA URBANA"]
["SERVIÇO: CONTRATAÇÃO DE ESTUDOS E SERVIÇOS TÉCNICOS PARA A ESCOLHA DE ROTA TECNOLÓGICA E PROJETOS DE ENGENHARIA DE UNIDADES DE TRATAMENTO DE RESÍDUOS SÓLIDOS\n"]
[]
[]
["Processo Eletrônico: 20.17.000001990-5"]
["ORÇAMENTO"]
[]
["Referência: Novembro 2020",{"$nulls":6},"Porto Alegre, 19 de novembro de 2020."]
[]
["Item","Serviço","Referência","Unidade","Valor unitário R$","Quantidade","Valor semestral","Valor do item (R$)"]
[1,"Plano de trabalho",{"$nulls":5},{"$f":"H15","v":92887.869600000005}]
["1.1","Plano de Trabalho e Cronograma",null,"Relatório ",92887.869600000005,1,{"$f":"#REF!*E15","v":{"$error":"#REF!"}},{"$f":"F15*E15","v":92887.869600000005}]
[2,"Diagnóstico e análise de demanda",{"$nulls":5},{"$f":"SUM(H17:H21)","v":1300430.1744000001}]
["2.1","Relatório Diagnóstico Técnico-Operacional do Sistema de Manejo de Resíduos Sólidos",null,"Relatório ",189997.91509090911,1,0,{"$f":"F17*E17","v":189997.91509090911}]
["2.2","Relatório Análise de Implementação de Novas Tecnologias e Rotas Tecnológicas",null,"Relatório ",325107.54360000003,1,0,{"$f":"F18*E18","v":325107.54360000003}]
["2.3","Relatório Análise de Aspectos Socioambientais",null,"Relatório ",230108.58605454548,1,0,230108.58605454548]
["2.4","Relatório Análise de Estudo de Demanda",null,"Relatório ",230108.58605454548,1,0,230108.58605454548]
["2.5","Relatório Análise de Econômico-Fincanceira Preliminar",null,"Relatório ",325107.54360000003,1,0,325107.54360000003]
[3,"Definição da rota tecnológica e área potenciais",{"$nulls":5},{"$f":"SUM(H23:H25)","v":1161098.3700000001}]
["3.1","Relatório Avaliação Rotas Tecnológicas Aplicáveis",null,"Relatório ",464439.34800000006,1,0,{"$f":"F23*E23","v":464439.34800000006}]
["3.2","Relatório Consolidação da Rota Tecnológica",null,"Relatório ",232219.67400000003,1,0,{"$f":"F24*E24","v":232219.67400000003}]
["3.3","Relatório Estudo e Análise de Áreas Potenciais",null,"Relatório ",464439.34800000006,1,0,464439.34800000006]
[4,"Projetos básicos",{"$nulls":5},{"$f":"H27","v":1300430.1744000001}]
["4.1","Elaboração dos Projetos Básicos",null,"Projeto",1300430.1744000001,1,0,{"$f":"F27*E27","v":1300430.1744000001}]
[5,"TRs para contratação dos projetos executivos",{"$nulls":5},{"$f":"H29","v":789546.89160000009}]
["5.1","Elaboração de Termos de Referência (TRs) para Projetos Executivos",null,"Termo",789546.89160000009,1,{"$f":"#REF!*E29","v":{"$error":"#REF!"}},{"$f":"F29*E29","v":789546.89160000009}]
[null,"TOTAL DOS SERVIÇOS",{"$nulls":5},{"$f":"SUM(H14+H16+H22+H26+H28)","v":4644393.4800000004}]

{"sheet":"Cronograma Físico-Financeiro","index":1,"n_rows":32,"n_cols":51,"rows_kept":32,"cut":false,"hidden":false,"merged":[[12,49,12,50],[12,39,12,40],[12,41,12,42],[12,43,12,44],[12,45,12,46],[12,47,12,48],[12,29,12,30],[12,31,12,32],[12,33,12,34],[12,35,12,36],[12,37,12,38],[12,3,12,4],[12,5,12,6],[12,0,13,1],[12,7,12,8],[12,27,12,28],[6,1,6,11],[31,0,31,1],[0,0,0,26],[1,0,1,26],[2,1,2,2],[3,1,4,11],[12,21,12,22],[12,23,12,24],[12,25,12,26],[12,2,13,2],[12,9,12,10],[12,11,12,12],[12,13,12,14],[12,15,12,16],[12,17,12,18],[12,19,12,20]]}
["PREFEITURA MUNICIPAL DE PORTO ALEGRE"]
[]
["                                                       Processo Eletrônico: XXXX","DEPARTAMENTO MUNICIPAL DE LIMPEZA URBANA",{"$nulls":23},{"$f":"'planilha orçamento PB'!H11","v":"Porto Alegre, 19 de novembro de 2020."}]
[null,{"$f":"'planilha orçamento PB'!A5","v":"SERVIÇO: CONTRATAÇÃO DE ESTUDOS E SERVIÇOS TÉCNICOS PARA A ESCOLHA DE ROTA TECNOLÓGICA E PROJETOS DE ENGENHARIA DE UNIDADES DE TRATAMENTO DE RESÍDUOS SÓLIDOS\n"}]
[]
[]
[null,{"$f":"'planilha orçamento PB'!A8","v":"Processo Eletrônico: 20.17.000001990-5"}]
[]
[null,"CRONOGRAMA FÍSICO FINANCEIRO"]
[]
[]
[]
["DISCRIMINAÇÃO",null,"Custo Total (R$)","Mês 1",null,"Mês 2",null,"Mês 3",null,"Mês 4",null,"Mês 5",null,"Mês 6",null,"Mês 7",null,"Mês 8",null,"Mês 9",null,"Mês 10",null,"Mês 11",null,"Mês 12",null,"Mês 12",null,"Mês 14",null,"Mês 15",null,"Mês 16",null,"Mês 17",null,"Mês 18",null,"Mês 19",null,"Mês 20",null,"Mês 21",null,"Mês 22",null,"Mês 23",null,"Mês 24"]
[null,null,null,"Custo (R$)","%","Custo (R$)","%","Custo (R$)","%","Custo (R$)","%","Custo (R$)","%","Custo (R$)","%","Custo (R$)","%","Custo (R$)","%","Custo (R$)","%","Custo (R$)","%","Custo (R$)","%","Custo (R$)","%","Custo (R$)","%","Custo (R$)","%","Custo (R$)","%","Custo (R$)","%","Custo (R$)","%","Custo (R$)","%","Custo (R$)","%","Custo (R$)","%","Custo (R$)","%","Custo (R$)","%","Custo (R$)","%","Custo (R$)","%"]
[1,{"$f":"'planilha orçamento PB'!B14","v":"Plano de trabalho"}]
["1.1",{"$f":"'planilha orçamento PB'!B15","v":"Plano de Trabalho e Cronograma"},{"$f":"'planilha orçamento PB'!H15","v":92887.869600000005},{"$f":"C16","v":92887.869600000005},{"$f":"D16/$C$16","v":1}]
[2,{"$f":"'planilha orçamento PB'!B16","v":"Diagnóstico e análise de demanda"}]
["2.1",{"$f":"'planilha orçamento PB'!B17","v":"Relatório Diagnóstico Técnico-Operacional do Sistema de Manejo de Resíduos Sólidos"},{"$f":"'planilha orçamento PB'!H17","v":189997.91509090911},null,null,{"$f":"C18","v":189997.91509090911},{"$f":"F18/C18","v":1}]
["2.2","Plantio, adubação e manutenção de mudas (*ETLP, Aterro Norte, Extrema)",{"$f":"'planilha orçamento PB'!#REF!","v":{"$error":"#REF!"}},null,null,null,{"$error":"#REF!"}]
["3.1",{"$f":"'planilha orçamento PB'!B18","v":"Relatório Análise de Implementação de Novas Tecnologias e Rotas Tecnológicas"},{"$f":"'planilha orçamento PB'!H18","v":325107.54360000003},{"$nulls":10},{"$f":"C20","v":325107.54360000003},{"$f":"N20/$C$20","v":1}]
["3.2",{"$f":"'planilha orçamento PB'!B19","v":"Relatório Análise de Aspectos Socioambientais"},{"$f":"'planilha orçamento PB'!H19","v":230108.58605454548},{"$nulls":12},{"$f":"C21","v":230108.58605454548},1]
["3.3",{"$f":"'planilha orçamento PB'!B20","v":"Relatório Análise de Estudo de Demanda"},{"$f":"'planilha orçamento PB'!H20","v":230108.58605454548},{"$nulls":12},{"$f":"C22","v":230108.58605454548},1]
["4.1",{"$f":"'planilha orçamento PB'!B21","v":"Relatório Análise de Econômico-Fincanceira Preliminar"},{"$f":"'planilha orçamento PB'!H21","v":325107.54360000003},{"$nulls":12},{"$f":"C23","v":325107.54360000003},1]
[3,{"$f":"'planilha orçamento PB'!B22","v":"Definição da rota tecnológica e área potenciais"}]
["3.1",{"$f":"'planilha orçamento PB'!B23","v":"Relatório Avaliação Rotas Tecnológicas Aplicáveis"},{"$f":"'planilha orçamento PB'!H23","v":464439.34800000006},{"$nulls":24},{"$f":"C25","v":464439.34800000006},1]
["3.1",{"$f":"'planilha orçamento PB'!B24","v":"Relatório Consolidação da Rota Tecnológica"},{"$f":"'planilha orçamento PB'!H24","v":232219.67400000003},{"$nulls":24},{"$f":"C26","v":232219.67400000003},1]
["3.1",{"$f":"'planilha orçamento PB'!B25","v":"Relatório Estudo e Análise de Áreas Potenciais"},{"$f":"'planilha orçamento PB'!H25","v":464439.34800000006},{"$nulls":26},{"$f":"C27","v":464439.34800000006},1]
[4,{"$f":"'planilha orçamento PB'!B26","v":"Projetos básicos"}]
["4.1",{"$f":"'planilha orçamento PB'!B27","v":"Elaboração dos Projetos Básicos"},{"$f":"'planilha orçamento PB'!H27","v":1300430.1744000001},{"$nulls":38},{"$f":"C29","v":1300430.1744000001},1]
[5,{"$f":"'planilha orçamento PB'!B28","v":"TRs para contratação dos projetos executivos"}]
["5.1",{"$f":"'planilha orçamento PB'!B29","v":"Elaboração de Termos de Referência (TRs) para Projetos Executivos"},{"$f":"'planilha orçamento PB'!H29","v":789546.89160000009},{"$nulls":46},{"$f":"C31","v":789546.89160000009},1]
["TOTAL",null,{"$f":"C16+C18+C20+C21+C22+C23+C25+C26+C27+C29+C31","v":4644393.4800000004},{"$f":"SUM(D16:D31)","v":92887.869600000005},{"$f":"D32/$C$32","v":0.02},{"$f":"SUM(F16:F31)","v":189997.91509090911},{"$f":"F32/$C$32","v":4.0909090909090909E-2},{"$f":"SUM(H16:H31)","v":0},{"$f":"H32/$C$32","v":0},{"$f":"SUM(J16:J31)","v":0},{"$f":"J32/$C$32","v":0},{"$f":"SUM(L16:L31)","v":0},{"$f":"L32/$C$32","v":0},{"$f":"SUM(N16:N31)","v":325107.54360000003},{"$f":"N32/$C$32","v":7.0000000000000007E-2},{"$f":"SUM(P16:P31)","v":785324.71570909093},{"$f":"P32/$C$32","v":0.16909090909090907},{"$f":"SUM(R16:R31)","v":0},{"$f":"R32/$C$32","v":0},{"$f":"SUM(T16:T31)","v":0},{"$f":"T32/$C$32","v":0},{"$f":"SUM(V16:V31)","v":0},{"$f":"V32/$C$32","v":0},{"$f":"SUM(X16:X31)","v":0},{"$f":"X32/$C$32","v":0},{"$f":"SUM(Z16:Z31)","v":0},{"$f":"Z32/$C$32","v":0},{"$f":"SUM(AB16:AB31)","v":696659.02200000011},{"$f":"AB32/$C$32","v":0.15000000000000002},{"$f":"SUM(AD16:AD31)","v":464439.34800000006},{"$f":"AD32/$C$32","v":0.1},{"$f":"SUM(AF16:AF31)","v":0},{"$f":"AF32/$C$32","v":0},{"$f":"SUM(AH16:AH31)","v":0},{"$f":"AH32/$C$32","v":0},{"$f":"SUM(AJ16:AJ31)","v":0},{"$f":"AJ32/$C$32","v":0},{"$f":"SUM(AL16:AL31)","v":0},{"$f":"AL32/$C$32","v":0},{"$f":"SUM(AN16:AN31)","v":0},{"$f":"AN32/$C$32","v":0},{"$f":"SUM(AP16:AP31)","v":1300430.1744000001},{"$f":"AP32/$C$32","v":0.28000000000000003},{"$f":"SUM(AR16:AR31)","v":0},{"$f":"AR32/$C$32","v":0},{"$f":"SUM(AT16:AT31)","v":0},{"$f":"AT32/$C$32","v":0},{"$f":"SUM(AV16:AV31)","v":0},{"$f":"AV32/$C$32","v":0},{"$f":"SUM(AX16:AX31)","v":789546.89160000009},{"$f":"AX32/$C$32","v":0.17}]

{"sheet":"COTAÇÕES ","index":2,"n_rows":57,"n_cols":13,"rows_kept":57,"cut":false,"hidden":false,"merged":[[12,8,14,8],[12,9,14,9],[12,0,16,0],[0,0,0,12],[1,0,1,1],[2,0,3,12],[5,0,5,12],[7,1,8,1],[12,1,16,1],[12,10,16,10],[12,11,16,11],[12,12,16,12],[12,2,14,2],[12,3,14,3],[12,4,14,4],[12,5,14,5],[12,6,14,6],[12,7,14,7]]}
["PREFEITURA MUNICIPAL DE PORTO ALEGRE"]
[{"$nulls":12},{"$f":"'planilha orçamento PB'!H11","v":"Porto Alegre, 19 de novembro de 2020."}]
[{"$f":"'planilha orçamento PB'!A5","v":"SERVIÇO: CONTRATAÇÃO DE ESTUDOS E SERVIÇOS TÉCNICOS PARA A ESCOLHA DE ROTA TECNOLÓGICA E PROJETOS DE ENGENHARIA DE UNIDADES DE TRATAMENTO DE RESÍDUOS SÓLIDOS\n"}]
[]
[]
[{"$f":"'planilha orçamento PB'!A8:B8","v":"Processo Eletrônico: 20.17.000001990-5"}]
[]
[null,"COTAÇÕES"]
[]
[]
["CÓDIGO","DESCRIÇÃO","FORNECEDOR","CNPJ","CONTATO","TELEFONE","DATA DA COTAÇÃO","VALOR DA COTAÇÃO (R$)","DATA DA CORREÇÃO DA COTAÇÃO","VALOR DA COTAÇÃO CORRIGIDA (R$) (Nota 5)","MEDIANA (R$)","MÉDIA (R$)","VALOR ADOTADO (R$)"]
[1,"Estudo e serviços técnicos rota tecnógica RSU e projetos básicos"]
[1,"Realização de serviços técncios para a realização de estudos e projetos para a modernização, manutenção e operação integrada do sitema de manejo de resíduos sólidos urbanos, no município de Porto Alegre – RS","Contrato FEP-Caixa e Município de Teresina (PI) (Nota 2)","Ver Nota 1","Ver Nota 1","Ver Nota 1","Abril de 2018",4228328.8899999997,"Outubro de 2020",4644393.4800000004,{"$f":"MEDIAN(J13:J17)","v":4644393.4800000004},{"$f":"AVERAGE(J13:J17)","v":5331808.8666666672},{"$f":"IF(K13<L13,K13,L13)","v":4644393.4800000004}]
[]
[]
[null,null,"Pregão eletrônico AARH n° 45/2018 - BNDES para São Paulo (SP) (Nota 3)","Ver Nota 1","Ver Nota 1","Ver Nota 1","Novembro de 2018",6780000,"Outubro de 2020",7224273.7300000004]
[null,null,"Contrato FEP-Caixa e Município de Bauru (SP) (Nota 4)","Ver Nota 1","Ver Nota 1","Ver Nota 1","Abril de 2018",3757066.67,"Outubro de 2020",4126759.39]
[]
[null,"Nota: "]
[null,"   1. Pelo inedistismo deste tipo de contratação de estudo sobre rotas tecnológicas, foram buscados contratos e editais similares em outros municípios para realização da cotação e estimativa de valores."]
[null,"       Por isso, na tabela acima, não constam CNPJ, contato nem telefone de contatos."]
[null,"   2. Comprovação de valor no contrato no SEI 12250931."]
[null,"   3. Comprovação de valor no contrato no SEI 12250945."]
[null,"   4. Comprovação de valor no contrato no SEI 12250968."]
[null,"   5. Valores corrigidos segundo informação da DF-DMLU, em SEI 12251446."]
[]
[]
[null,null,"Nota da DF-DMLU:"]
[null,null,"Valores artualizados pelo IPCA/IBGE, considerando ser o índice utilizado pelo Município para correção de valores, tais como, por exemplo,"]
[null,null,"o art. 49, II, da Lei Complementar 881/20, que dispõe sobre as normas de finanças públicas no âmbito do Município de Porto Alegre."]
[null,null,"Ressaltamos quanto à alteração das datas, para constar o mês invés do dia, por entendermos desnecessário a utilização do cálculo pro rata para essas atualizações."]
[null,null,"Ademais, os valores foram atualizados até o mês 10/2020, considerando ser o último índice disponível."]
{"$rows_empty":22}
["Tabela SICRO -  referencia Janeiro 2020"]
[]
["4413989 Plantio de mudas arbóreas com porte de 30 a 80 cm em covas de 0,60 x 0,60 x 0,60 m un 22,93"]

{"sheet":"orcamento preliminar","index":3,"n_rows":121,"n_cols":8,"rows_kept":121,"cut":false,"hidden":true,"merged":[[120,1,120,5]]}
[]
["Item","Serviço","Referência","Unidade","Valor unitário R$","Quantidade ","Quantidade total","Valor total"]
[1,"Amostragens e Análises Fisico-químicas e Microbiológicas"]
["2.1","Amostragem"]
["2.1.1","Coleta de amostras de águas subterrâneas - poços tubulares (20 poços)","Pregão São Leopoldo","Unidade",423.03,16,{"$f":"(10*2*5)+(6*4*5)","v":220},{"$f":"E5*G5","v":93066.599999999991}]
["2.1.2","Coleta de amostras de águas superficiais - açudes, arroios, nascentes","Pregão São Leopoldo","Unidade",716.62,6,{"$f":"(3*2*5)+(3*4*5)","v":90},{"$f":"E6*G6","v":64495.8}]
["2.1.3","Coleta de amostras de efluentes (brutos, tratados, lixiviados) - tanques, lagoas","Pregão São Leopoldo","Unidade",713.3,10,{"$f":"10*2*5","v":100},{"$f":"E7*G7","v":71330}]
["2.1.4","Coleta de amostras de solo (composto orgânico) - leiras de compostagem","Pregão São Leopoldo","Unidade",713.3,12,{"$f":"1*12*5","v":60},{"$f":"E8*G8","v":42798}]
["2.2","Relatório Técnico de Amostragem e Monitoramento Fisico-químico e Bacteriológico","PE 106/2018","Unidade",2100,null,{"$f":"(4*5*1)+(2*5*2)","v":40},{"$f":"G9*E9","v":84000}]
[{"$nulls":6},"total item 2",{"$f":"SUM(H5:H9)","v":355690.4}]
[]
["2.2 a","Análises Físico-Químicas e Microbiológicas em amostras Líquidas"]
["2.2.1","Acidez","cotação","Unidade",null,4,{"$f":"F13*4*5","v":80}]
["2.2.2","Ácidos graxos voláteis","cotação","Unidade",null,17,{"$f":"F14*4*5","v":340}]
["2.2.3","Alcalinidade,","cotação","Unidade",null,30,{"$f":"(13*4*5)+(17*4*5)","v":600}]
["2.2.4","Alumínio","cotação","Unidade",null,32,{"$f":"(15*4*5)+(17*4*5)","v":640}]
["2.2.5","Bario","cotação","Unidade",null,4,{"$f":"F17*4*5","v":80}]
["2.2.6","Cádmio","cotação","Unidade",null,32,{"$f":"G16","v":640}]
["2.2.7","Cálcio","cotação","Unidade",null,13,{"$f":"13*4*5","v":260}]
["2.2.8","Chumbo, ","cotação","Unidade",null,32,{"$f":"G18","v":640}]
["2.2.9","cianetos","cotação","Unidade",null,4,{"$f":"G17","v":80}]
["2.2.10","Cloretos, ","cotação","Unidade",null,13,{"$f":"G19","v":260}]
["2.2.11","Cobre ","cotação","Unidade",null,32,{"$f":"G20","v":640}]
["2.2.12","Coliformes Termotolerantes","cotação","Unidade",null,32,{"$f":"G23","v":640}]
["2.2.13","Coliformes Totais, ","cotação","Unidade",null,32,{"$f":"G24","v":640}]
["2.2.14","Condutividade Elétrica, ","cotação","Unidade",null,32,{"$f":"G25","v":640}]
["2.2.15","Cromo, ","cotação","Unidade",null,30,{"$f":"G15","v":600}]
["2.2.16","DBO5, ","cotação","Unidade",null,32,{"$f":"G26","v":640}]
["2.2.17","DQO, ","cotação","Unidade",null,32,{"$f":"G28","v":640}]
["2.2.18","Fenóis","cotação","Unidade",null,4,{"$f":"G17","v":80}]
["2.2.19","Ferro dissolvido, ","cotação","Unidade",null,13,{"$f":"G22","v":260}]
["2.2.20","Ferro total, ","cotação","Unidade",null,32,{"$f":"G29","v":640}]
["2.2.21","fosfato total","cotação","Unidade",null,4,{"$f":"G30","v":80}]
["2.2.22","Fósforo, ","cotação","Unidade",null,30,{"$f":"G27","v":600}]
["2.2.23","Magnésio","cotação","Unidade",null,13,{"$f":"G31","v":260}]
["2.2.24","Manganês dissolvido, ","cotação","Unidade",null,13,{"$f":"G31","v":260}]
["2.2.25","Manganês total, ","cotação","Unidade",null,30,{"$f":"G27","v":600}]
["2.2.26","Mercúrio, ","cotação","Unidade",null,32,{"$f":"G29","v":640}]
["2.2.27","Níquel, ","cotação","Unidade",null,32,{"$f":"G29","v":640}]
["2.2.28","Nitratos","cotação","Unidade",null,19,{"$f":"(2*2*5)+(17*4*5)","v":360}]
["2.2.29","Nitrogênio Amoniacal, ","cotação","Unidade",null,30,{"$f":"G37","v":600}]
["2.2.30","Nitrogênio Kjedhal","cotação","Unidade",null,17,{"$f":"F42*4*5","v":340}]
["2.2.31","Nitrogenio organico","cotação","Unidade",null,4,{"$f":"G30","v":80}]
["2.2.32","Nitrogênio total, ","cotação","Unidade",null,13,{"$f":"G31","v":260}]
["2.2.33","Óleos e graxas mineral","cotação","Unidade",null,4,{"$f":"G33","v":80}]
["2.2.34","pH,","cotação","Unidade",null,32,{"$f":"G39","v":640}]
["2.2.35","Potássio","cotação","Unidade",null,13,{"$f":"G44","v":260}]
["2.2.36","Potencial redox","cotação","Unidade",null,17,{"$f":"G42","v":340}]
["2.2.37","sódio","cotação","Unidade",null,13,{"$f":"G44","v":260}]
["2.2.38","Sólidos Sedimentáveis, ","cotação","Unidade",null,13,{"$f":"G44","v":260}]
["2.2.39","Sólidos Suspensos, ","cotação","Unidade",null,13,{"$f":"G44","v":260}]
["2.2.40","Sólidos Totais","cotação","Unidade",null,19,{"$f":"G40","v":360}]
["2.2.41","Sólidos totais fixos","cotação","Unidade",null,17,{"$f":"G48","v":340}]
["2.2.42","Substancias Tensoativas","cotação","Unidade",null,4,{"$f":"G45","v":80}]
["2.2.43","Sulfatos, ","cotação","Unidade",null,17,{"$f":"G42","v":340}]
["2.2.44","Sulfetos ","cotação","Unidade",null,30,{"$f":"G41","v":600}]
["2.2.45","Temperatura ","cotação","Unidade",null,13,{"$f":"G44","v":260}]
["2.2.46","Turbidez","cotação","Unidade",null,2,{"$f":"F58*2*5","v":20}]
["2.2.47","Zinco ","cotação","Unidade",null,32,{"$f":"G46","v":640}]
[]
["2.3 b","Análises Físico-Químicas e Microbiológicas em Amostras Sólidas"]
["2.3.1","Análise granulométrica e caracterização dos perfis de solo UNID. ","cotação","Unidade",null,6]
["2.3.2","Arsenio","cotação","Unidade",null,1,{"$f":"12*1*5","v":60}]
["2.3.3","Cádmio","cotação","Unidade",null,1,{"$f":"12*1*5","v":60}]
["2.3.4","Carbono orgânico","cotação","Unidade",null,1,60]
["2.3.5","Chumbo","cotação","Unidade",null,1,60]
["2.3.6","Coliformes Termotolerantes","cotação","Unidade",null,1,60]
["2.3.7","Cromo","cotação","Unidade",null,1,60]
["2.3.8","Mercúrio","cotação","Unidade",null,1,60]
["2.3.9","Níquel","cotação","Unidade",null,1,60]
["2.3.10","Ovos viáveis de helmintos","cotação","Unidade",null,1,60]
["2.3.11","Permeabilidade de solo in situ","cotação","Unidade",null,6]
["2.3.12","pH","cotação","Unidade",null,1,60]
["2.3.13","Porosidade efetiva do solo UNID. ","cotação","Unidade",null,6]
["2.3.14","Porosidade total do solo UNID. ","cotação","Unidade",null,6]
["2.3.15","Relação C/N ","cotação","Unidade",null,1,{"$f":"12*1*5","v":60}]
["2.3.16","salmonella sp","cotação","Unidade",null,1,60]
["2.3.17","Selênio","cotação","Unidade",null,1,60]
["2.3.18","Umidade","cotação","Unidade",null,1,60]
[]
[3,"Investigação Confirmatória"]
["3.1","Modelo Conceitual"]
["3.1.1","Identificação da área, levantamento de informações preliminares e elaboração de plano de amostragem","PE 205/2019","dia",{"$f":"6443.34/60*8","v":859.11199999999997},null,20,{"$f":"G83*E83","v":17182.239999999998}]
[]
["3.2","Levantamento planialtimétrico"]
["3.2.1 ","Planta 1:1000 - detalhamento infraestrura implantada, posicionamento","PE 205/2019","dia",{"$f":"5976.54/64*8","v":747.0675},null,15,{"$f":"G86*E86","v":11206.012500000001}]
["3.2.2","Planta 1:2000 - detalhamento entorno: raio 500 m das divisas","PE 205/2019","dia",{"$f":"5976.54/64*8","v":747.0675},null,15,{"$f":"G87*E87","v":11206.012500000001}]
["3.2.3","Planta 1:500 - perfis e detalhamento de áreas de disposição de resíduos","PE 205/2019","dia",747.0675,null,15,11206.012500000001]
[]
["3.3","Estudo hidrogeológico"]
["3.3.1","Estudo de vulnerabilidade de aquífero","PE 205/2019","h",{"$f":"5976.54/64","v":93.383437499999999},null,20,{"$f":"G91*E91","v":1867.66875}]
["3.3.2","Caracterização de corpo receptor","PE 205/2019","h",{"$f":"5976.54/64","v":93.383437499999999},null,20,{"$f":"G92*E92","v":1867.66875}]
["3.3.3","Elaboração de Mapa Potenciométrico","PE 205/2019","h",{"$f":"3788.2/50","v":75.763999999999996},null,20,1515.28]
[]
["3.4","Serviços de Perfuração e Instalação de poços de monitoramento"]
["3.4.1","Perfuração e Implantação de poços monitoramento (ABNT NBR 15495-1:2007 e 15495-2:2009) ","pregão Corsan","Unidade",{"$f":"(2540.39+1997.18)/2","v":2268.7849999999999},null,{"$f":"8+6","v":14},{"$f":"G96*E96","v":31762.989999999998}]
["3.4.2","Relatório Técnico Construtivo dos poços","pregão Corsan","Unidade",{"$f":"((9545.52/18)+ 492.82)/2","v":511.56333333333339},null,14,{"$f":"G97*E97","v":7161.8866666666672}]
[]
["3.5","Relatório Final de Investigação Confirmatória","PE 205/2019     PE 106/2018","Unidade",{"$f":"(3788.2 + 4500.02)/2","v":4144.1100000000006},null,2,{"$f":"G99*E99","v":8288.2200000000012}]
[{"$nulls":6},"total item 3",{"$f":"SUM(H83:H99)","v":103263.99166666665}]
[]
[4,"Manutenção das Barreiras Vegetais"]
["4.1","Projeto de cortinamento vegetal","PE 106/2018","Unidade",2580,null,1,{"$f":"G103*E103","v":2580}]
["4.2","Plantio, adubação e manutenção de mudas","PE 106/2018","dia",427,null,10,{"$f":"G104*E104","v":4270}]
[{"$nulls":6},"total item 4 ",{"$f":"SUM(H103:H104)","v":6850}]
[]
[5,"Laudos de Cobertura Vegetal"]
["5.1","Levantamento e identificação de espécies vegetais","PE 106/2018","dia",427,null,15,{"$f":"G108*E108","v":6405}]
["5.2","Laudo de Cobertura Vegetal","PE 106/2018","Unidade",7800,null,2,{"$f":"G109*E109","v":15600}]
[{"$nulls":6},"total item 5 ",{"$f":"SUM(H108:H109)","v":22005}]
[]
[6,"Laudos de Fauna"]
["6.1","Levantamento e identificação de fauna","PE 106/2018","dia",427,null,10,{"$f":"G113*E113","v":4270}]
["6.2","Laudo de fauna","PE 106/2018","Unidade",2568.38,null,1,{"$f":"G114*E114","v":2568.38}]
[{"$nulls":6},"total item 6 ",{"$f":"SUM(H113:H114)","v":6838.38}]
[]
[7,"Relatórios Técnicos de Monitoramento"]
["7.1","Relatório Trimestral de Monitoramento Ambiental","PE 106/2018","Unidade",1758,null,36,{"$f":"G118*E118","v":63288}]
[{"$nulls":6},"total item 7 ",{"$f":"SUM(H118)","v":63288}]
[]
[null,"Total dos Serviços",{"$nulls":5},{"$f":"H119+H115+H110+H105+H100+H10+#REF!","v":{"$error":"#REF!"}}]